{
 "currentVersion": 11.3,
 "serviceDescription": "FloodModels/Adopted_Scenarios_Depth",
 "name": "FloodModels/Adopted_Scenarios_Depth",
 "description": "",
 "extent": {
  "xmin": 1363175.4150999999,
  "ymin": 5041806.5,
  "xmax": 1684259.9150999999,
  "ymax": 5353460,
  "spatialReference": {
   "wkid": 2193,
   "latestWkid": 2193
  }
 },
 "initialExtent": {
  "xmin": 1363175.4150999999,
  "ymin": 5041806.5,
  "xmax": 1684259.9150999999,
  "ymax": 5353460,
  "spatialReference": {
   "wkid": 2193,
   "latestWkid": 2193
  }
 },
 "fullExtent": {
  "xmin": 1363175.4150999999,
  "ymin": 5041806.5,
  "xmax": 1684259.9150999999,
  "ymax": 5353460,
  "spatialReference": {
   "wkid": 2193,
   "latestWkid": 2193
  }
 },
 "sortableFields": "",
 "bandCount": 1,
 "pixelType": "F32",
 "minValues": [
  0.06754199415445328
 ],
 "maxValues": [
  227.42026123404503
 ],
 "meanValues": [
  0.566124805931119
 ],
 "stdvValues": [
  0.4960206234798317
 ],
 "hasMultidimensions": false,
 "pixelSizeX": 0.5,
 "pixelSizeY": 0.5,
 "meanPixelSize": 0.5,
 "datasetFormat": "AMD",
 "uncompressedSize": 1601073731532,
 "blockWidth": 2048,
 "blockHeight": 256,
 "compressionType": "None",
 "bandNames": [
  "Band_1"
 ],
 "allowCopy": false,
 "allowAnalysis": false,
 "itemAccess": false,
 "inspectionCapabilities": "",
 "minPixelSize": 0,
 "maxPixelSize": 0,
 "copyrightText": "",
 "serviceDataType": "esriImageServiceDataTypeGeneric",
 "serviceSourceType": "esriImageServiceSourceTypeMosaicDataset",
 "objectIdField": "OBJECTID",
 "fields": [
  {
   "name": "OBJECTID",
   "type": "esriFieldTypeOID",
   "alias": "OBJECTID",
   "domain": null
  },
  {
   "name": "Name",
   "type": "esriFieldTypeString",
   "alias": "Name",
   "domain": null,
   "length": 200
  },
  {
   "name": "MinPS",
   "type": "esriFieldTypeDouble",
   "alias": "MinPS",
   "domain": null
  },
  {
   "name": "MaxPS",
   "type": "esriFieldTypeDouble",
   "alias": "MaxPS",
   "domain": null
  },
  {
   "name": "LowPS",
   "type": "esriFieldTypeDouble",
   "alias": "LowPS",
   "domain": null
  },
  {
   "name": "HighPS",
   "type": "esriFieldTypeDouble",
   "alias": "HighPS",
   "domain": null
  },
  {
   "name": "Category",
   "type": "esriFieldTypeInteger",
   "alias": "Category",
   "domain": {
    "type": "codedValue",
    "name": "MosaicCatalogItemCategoryDomain",
    "description": "Catalog item categories.",
    "codedValues": [
     {
      "name": "Unknown",
      "code": 0
     },
     {
      "name": "Primary",
      "code": 1
     },
     {
      "name": "Overview",
      "code": 2
     },
     {
      "name": "Unprocessed Overview",
      "code": 3
     },
     {
      "name": "Partial Overview",
      "code": 4
     },
     {
      "name": "Inactive",
      "code": 5
     },
     {
      "name": "Uploaded",
      "code": 253
     },
     {
      "name": "Incomplete",
      "code": 254
     },
     {
      "name": "Custom",
      "code": 255
     }
    ],
    "mergePolicy": "esriMPTDefaultValue",
    "splitPolicy": "esriSPTDefaultValue"
   }
  },
  {
   "name": "Tag",
   "type": "esriFieldTypeString",
   "alias": "Tag",
   "domain": null,
   "length": 100
  },
  {
   "name": "GroupName",
   "type": "esriFieldTypeString",
   "alias": "GroupName",
   "domain": null,
   "length": 100
  },
  {
   "name": "ProductName",
   "type": "esriFieldTypeString",
   "alias": "ProductName",
   "domain": null,
   "length": 100
  },
  {
   "name": "CenterX",
   "type": "esriFieldTypeDouble",
   "alias": "CenterX",
   "domain": null
  },
  {
   "name": "CenterY",
   "type": "esriFieldTypeDouble",
   "alias": "CenterY",
   "domain": null
  },
  {
   "name": "ZOrder",
   "type": "esriFieldTypeInteger",
   "alias": "ZOrder",
   "domain": null
  },
  {
   "name": "Location",
   "type": "esriFieldTypeString",
   "alias": "Location",
   "domain": null,
   "length": 255
  },
  {
   "name": "ShortName",
   "type": "esriFieldTypeString",
   "alias": "Short Name",
   "domain": null,
   "length": 255
  },
  {
   "name": "LongName",
   "type": "esriFieldTypeString",
   "alias": "Long Name",
   "domain": null,
   "length": 255
  },
  {
   "name": "ModelDescription",
   "type": "esriFieldTypeString",
   "alias": "Model Description",
   "domain": null,
   "length": 255
  },
  {
   "name": "ScenarioDescription",
   "type": "esriFieldTypeString",
   "alias": "Scenario Description",
   "domain": null,
   "length": 255
  },
  {
   "name": "ClimateChangeAllowance",
   "type": "esriFieldTypeString",
   "alias": "Climate Change Allowance",
   "domain": null,
   "length": 255
  },
  {
   "name": "Comments",
   "type": "esriFieldTypeString",
   "alias": "Comments",
   "domain": null,
   "length": 255
  },
  {
   "name": "ChangesFromPrevVersion",
   "type": "esriFieldTypeString",
   "alias": "Changes from Previous Version",
   "domain": null,
   "length": 255
  },
  {
   "name": "FloodScenario",
   "type": "esriFieldTypeString",
   "alias": "Flood Scenario",
   "domain": null,
   "length": 255
  },
  {
   "name": "ResultType",
   "type": "esriFieldTypeString",
   "alias": "Result Type",
   "domain": null,
   "length": 255
  },
  {
   "name": "FloodplainTopography",
   "type": "esriFieldTypeString",
   "alias": "Floodplain Topography",
   "domain": null,
   "length": 255
  },
  {
   "name": "RiverCrossSections",
   "type": "esriFieldTypeString",
   "alias": "River Cross Sections",
   "domain": null,
   "length": 255
  },
  {
   "name": "PeakRiverFlow",
   "type": "esriFieldTypeString",
   "alias": "Peak River Flow m3/s",
   "domain": null,
   "length": 255
  },
  {
   "name": "BreachLocation",
   "type": "esriFieldTypeString",
   "alias": "Breach Location",
   "domain": null,
   "length": 255
  },
  {
   "name": "PeakBreachFlow",
   "type": "esriFieldTypeString",
   "alias": "Peak Breach Flow m3/s",
   "domain": null,
   "length": 255
  },
  {
   "name": "ProducedBy",
   "type": "esriFieldTypeString",
   "alias": "Produced By",
   "domain": null,
   "length": 255
  },
  {
   "name": "ProducedDate",
   "type": "esriFieldTypeString",
   "alias": "Produced Date",
   "domain": null,
   "length": 255
  },
  {
   "name": "ProducedFor",
   "type": "esriFieldTypeString",
   "alias": "Produced For",
   "domain": null,
   "length": 255
  },
  {
   "name": "ModellingSoftware",
   "type": "esriFieldTypeString",
   "alias": "Modelling Software",
   "domain": null,
   "length": 255
  },
  {
   "name": "AdoptedScenario",
   "type": "esriFieldTypeString",
   "alias": "Adopted Scenario",
   "domain": null,
   "length": 255
  },
  {
   "name": "VerticalDatum",
   "type": "esriFieldTypeString",
   "alias": "Vertical Datum",
   "domain": null,
   "length": 255
  },
  {
   "name": "RasterLocation",
   "type": "esriFieldTypeString",
   "alias": "Raster Location",
   "domain": null,
   "length": 255
  },
  {
   "name": "ASCFileName",
   "type": "esriFieldTypeString",
   "alias": "ASC File Name",
   "domain": null,
   "length": 255
  },
  {
   "name": "MethodRasterCalc",
   "type": "esriFieldTypeString",
   "alias": "Method of Raster Calculation",
   "domain": null,
   "length": 255
  },
  {
   "name": "ModelGridName",
   "type": "esriFieldTypeString",
   "alias": "Model Grid Name",
   "domain": null,
   "length": 255
  },
  {
   "name": "ModelGridLoc",
   "type": "esriFieldTypeString",
   "alias": "Model Grid Location",
   "domain": null,
   "length": 255
  },
  {
   "name": "TechReportLink",
   "type": "esriFieldTypeString",
   "alias": "Link to Technical Report",
   "domain": null,
   "length": 255
  },
  {
   "name": "StoryMapLink",
   "type": "esriFieldTypeString",
   "alias": "Link to StoryMap",
   "domain": null,
   "length": 255
  },
  {
   "name": "Shape",
   "type": "esriFieldTypeGeometry",
   "alias": "Shape",
   "domain": null
  }
 ],
 "capabilities": "Catalog,Mensuration,Image,Metadata",
 "defaultMosaicMethod": "Northwest",
 "allowedMosaicMethods": "NorthWest,Center,LockRaster,ByAttribute,Nadir,Viewpoint,Seamline,None",
 "sortField": "",
 "sortValue": null,
 "sortAscending": true,
 "mosaicOperator": "First",
 "maxDownloadSizeLimit": 2048,
 "defaultCompressionQuality": 75,
 "defaultResamplingMethod": "Nearest",
 "maxImageHeight": 4100,
 "maxImageWidth": 15000,
 "maxRecordCount": 1000,
 "maxDownloadImageCount": 20,
 "maxMosaicImageCount": 20,
 "allowRasterFunction": true,
 "rasterFunctionInfos": [
  {
   "name": "DepCB",
   "description": "A raster function template.",
   "help": ""
  },
  {
   "name": "None",
   "description": "A No-Op Function.",
   "help": ""
  }
 ],
 "rasterTypeInfos": [
  {
   "name": "Raster Dataset",
   "description": "Supports all ArcGIS Raster Datasets",
   "help": ""
  }
 ],
 "mensurationCapabilities": "Basic",
 "hasHistograms": true,
 "hasColormap": false,
 "hasRasterAttributeTable": false,
 "minScale": 0,
 "maxScale": 0,
 "exportTilesAllowed": false,
 "supportsStatistics": true,
 "supportsAdvancedQueries": true,
 "editFieldsInfo": null,
 "ownershipBasedAccessControlForRasters": null,
 "allowComputeTiePoints": false,
 "useStandardizedQueries": true,
 "advancedQueryCapabilities": {
  "useStandardizedQueries": true,
  "supportsStatistics": true,
  "supportsOrderBy": true,
  "supportsDistinct": true,
  "supportsPagination": true
 },
 "spatialReference": {
  "wkid": 2193,
  "latestWkid": 2193
 },
 "resampling": false
}
