<?xml version="1.0" encoding="UTF-8" standalone="no"?>
<metadata xml:lang="en">
<Esri>
<CreaDate>20250818</CreaDate>
<CreaTime>07403900</CreaTime>
<ArcGISFormat>1.0</ArcGISFormat>
<SyncOnce>FALSE</SyncOnce>
<DataProperties>
<lineage>
<Process Date="20190910" Time="093744" ToolSource="c:\program files (x86)\arcgis\desktop10.7\ArcToolbox\Toolboxes\Data Management Tools.tbx\CreateMosaicDataset">CreateMosaicDataset \\raster\z\Flood_Data\Mosaics\Mosaics.gdb Adopted_Scenarios_Elevation "PROJCS['NZGD_2000_New_Zealand_Transverse_Mercator',GEOGCS['GCS_NZGD_2000',DATUM['D_NZGD_2000',SPHEROID['GRS_1980',6378137.0,298.257222101]],PRIMEM['Greenwich',0.0],UNIT['Degree',0.0174532925199433]],PROJECTION['Transverse_Mercator'],PARAMETER['False_Easting',1600000.0],PARAMETER['False_Northing',10000000.0],PARAMETER['Central_Meridian',173.0],PARAMETER['Scale_Factor',0.9996],PARAMETER['Latitude_Of_Origin',0.0],UNIT['Meter',1.0]];-4020900 1900 10000;-100000 10000;-100000 10000;0.001;0.001;0.001;IsHighPrecision" 1 32_BIT_FLOAT NONE #</Process>
<Process Date="20210428" Time="094656" ToolSource="c:\program files\arcgis\pro\Resources\ArcToolbox\toolboxes\Data Management Tools.tbx\AddRastersToMosaicDataset">AddRastersToMosaicDataset C:\Users\DanielW\AppData\Roaming\Esri\ArcGISPro\Favorites\SQL03PROD_RASTER_GISWebEditor.sde\GIS_RASTER.DBO.FLOOD_Adopted_Scenarios_Elevation "Table / Raster Catalog" ash_adop_elev UPDATE_CELL_SIZES UPDATE_BOUNDARY UPDATE_OVERVIEWS # 0 1500 # # SUBFOLDERS "Allow duplicates" BUILD_PYRAMIDS CALCULATE_STATISTICS NO_THUMBNAILS # NO_FORCE_SPATIAL_REFERENCE ESTIMATE_STATISTICS # NO_PIXEL_CACHE C:\Users\DanielW\AppData\Local\ESRI\rasterproxies\GIS_RASTER.DBO.FLOOD_Adopted_Scenarios_Elevation</Process>
<Process Date="20210428" Time="105201" ToolSource="c:\program files\arcgis\pro\Resources\ArcToolbox\toolboxes\Data Management Tools.tbx\AddRastersToMosaicDataset">AddRastersToMosaicDataset C:\Users\DanielW\AppData\Roaming\Esri\ArcGISPro\Favorites\SQL03PROD_RASTER_GISWebEditor.sde\GIS_RASTER.DBO.FLOOD_Adopted_Scenarios_Elevation "Table / Raster Catalog" ash_adop_elev UPDATE_CELL_SIZES UPDATE_BOUNDARY UPDATE_OVERVIEWS # 0 1500 # # SUBFOLDERS "Allow duplicates" BUILD_PYRAMIDS CALCULATE_STATISTICS NO_THUMBNAILS # NO_FORCE_SPATIAL_REFERENCE ESTIMATE_STATISTICS # NO_PIXEL_CACHE C:\Users\DanielW\AppData\Local\ESRI\rasterproxies\GIS_RASTER.DBO.FLOOD_Adopted_Scenarios_Elevation</Process>
<Process Date="20210428" Time="125004" ToolSource="c:\program files\arcgis\pro\Resources\ArcToolbox\toolboxes\Data Management Tools.tbx\AddRastersToMosaicDataset">AddRastersToMosaicDataset C:\Users\DanielW\AppData\Roaming\Esri\ArcGISPro\Favorites\SQL03PROD_RASTER_GISWebEditor.sde\GIS_RASTER.DBO.FLOOD_Adopted_Scenarios_Elevation "Table / Raster Catalog" ash_adop_elev UPDATE_CELL_SIZES UPDATE_BOUNDARY UPDATE_OVERVIEWS # 0 1500 # # SUBFOLDERS "Allow duplicates" BUILD_PYRAMIDS CALCULATE_STATISTICS NO_THUMBNAILS # NO_FORCE_SPATIAL_REFERENCE ESTIMATE_STATISTICS # NO_PIXEL_CACHE C:\Users\DanielW\AppData\Local\ESRI\rasterproxies\GIS_RASTER.DBO.FLOOD_Adopted_Scenarios_Elevation</Process>
<Process Date="20210430" Time="101248" ToolSource="c:\program files\arcgis\pro\Resources\ArcToolbox\toolboxes\Data Management Tools.tbx\AddRastersToMosaicDataset">AddRastersToMosaicDataset C:\Users\DanielW\AppData\Roaming\Esri\ArcGISPro\Favorites\SQL03PROD_RASTER_GISWebEditor.sde\GIS_RASTER.DBO.FLOOD_Adopted_Scenarios_Elevation "Table / Raster Catalog" Wmkd_adop_elev UPDATE_CELL_SIZES UPDATE_BOUNDARY UPDATE_OVERVIEWS # 0 1500 # # SUBFOLDERS "Allow duplicates" BUILD_PYRAMIDS CALCULATE_STATISTICS NO_THUMBNAILS # NO_FORCE_SPATIAL_REFERENCE ESTIMATE_STATISTICS # NO_PIXEL_CACHE C:\Users\DanielW\AppData\Local\ESRI\rasterproxies\GIS_RASTER.DBO.FLOOD_Adopted_Scenarios_Elevation</Process>
<Process Date="20210503" Time="155116" ToolSource="c:\program files\arcgis\pro\Resources\ArcToolbox\toolboxes\Data Management Tools.tbx\AddRastersToMosaicDataset">AddRastersToMosaicDataset C:\Users\DanielW\AppData\Roaming\Esri\ArcGISPro\Favorites\SQL03PROD_RASTER_GISWebEditor.sde\GIS_RASTER.DBO.FLOOD_Adopted_Scenarios_Elevation "Table / Raster Catalog" uop_adop_el UPDATE_CELL_SIZES UPDATE_BOUNDARY UPDATE_OVERVIEWS # 0 1500 # # SUBFOLDERS "Allow duplicates" BUILD_PYRAMIDS CALCULATE_STATISTICS NO_THUMBNAILS # NO_FORCE_SPATIAL_REFERENCE ESTIMATE_STATISTICS # NO_PIXEL_CACHE C:\Users\DanielW\AppData\Local\ESRI\rasterproxies\GIS_RASTER.DBO.FLOOD_Adopted_Scenarios_Elevation</Process>
<Process Date="20250722" Time="122308" ToolSource="d:\program files\arcgis\pro\Resources\ArcToolbox\Toolboxes\Data Management Tools.tbx\CopyMultiple">CopyMultiple "'\\GISmaps\ServiceMxds\_Connection_Files\SDE Connections Prod\SQL03PROD GIS_RASTER GISWebUser.sde\GIS_RASTER.DBO.FLOOD_AdoptedScenarios_Depth' MosaicDataset;'\\GISmaps\ServiceMxds\_Connection_Files\SDE Connections Prod\SQL03PROD GIS_RASTER GISWebUser.sde\GIS_RASTER.DBO.FLOOD_Adopted_Scenarios_Elevation' MosaicDataset" "\\GISmaps\ServiceMxds\arcgisprod12\TsunamiModels\Tsunami Models.gdb" FLOOD_AdoptedScenarios_Depth;FLOOD_Adopted_Scenarios_Elevation "GIS_RASTER.DBO.FLOOD_AdoptedScenarios_Depth MosaicDataset FLOOD_AdoptedScenarios_Depth #;GIS_RASTER.DBO.FLOOD_Adopted_Scenarios_Elevation MosaicDataset FLOOD_Adopted_Scenarios_Elevation #;GIS_RASTER.DBO.FLOOD_AdoptedScenarios_Depth LasDataset FLOOD_AdoptedScenarios_Depth #;GIS_RASTER.DBO.FLOOD_Adopted_Scenarios_Elevation LasDataset FLOOD_Adopted_Scenarios_Elevation #"</Process>
<Process Date="20250722" Time="130615" ToolSource="d:\program files\arcgis\pro\Resources\ArcToolbox\Toolboxes\Data Management Tools.tbx\Rename">Rename "\\GISmaps\ServiceMxds\arcgisprod12\TsunamiModels\Tsunami Models.gdb\FLOOD_Adopted_Scenarios_Elevation" "\\GISmaps\ServiceMxds\arcgisprod12\TsunamiModels\Tsunami Models.gdb\dbo_FLOOD_Adopted_Scenarios_Elevation" MosaicDataset</Process>
<Process Date="20250722" Time="132940" ToolSource="d:\program files\arcgis\pro\Resources\ArcToolbox\Toolboxes\Data Management Tools.tbx\CopyMultiple">CopyMultiple "'\\GISmaps\ServiceMxds\arcgisprod12\TsunamiModels\Tsunami Models.gdb\dbo_FLOOD_Adopted_Scenarios_Elevation' MosaicDataset;'\\GISmaps\ServiceMxds\arcgisprod12\TsunamiModels\Tsunami Models.gdb\dbo_FLOOD_AdoptedScenarios_Depth' MosaicDataset" \\arcgisprod12\GISData\Data\FloodModels.gdb dbo_FLOOD_Adopted_Scenarios_Elevation;dbo_FLOOD_AdoptedScenarios_Depth "dbo_FLOOD_Adopted_Scenarios_Elevation MosaicDataset dbo_FLOOD_Adopted_Scenarios_Elevation #;dbo_FLOOD_AdoptedScenarios_Depth MosaicDataset dbo_FLOOD_AdoptedScenarios_Depth #;dbo_FLOOD_Adopted_Scenarios_Elevation LasDataset dbo_FLOOD_Adopted_Scenarios_Elevation #;dbo_FLOOD_AdoptedScenarios_Depth LasDataset dbo_FLOOD_AdoptedScenarios_Depth #"</Process>
<Process Date="20250818" Time="074551" ToolSource="c:\program files\arcgis\pro\Resources\ArcToolbox\Toolboxes\Data Management Tools.tbx\CopyMultiple">CopyMultiple "\\arcgisprod12\GISData\Data\FloodModels.gdb\dbo_FLOOD_Adopted_Scenarios_Elevation MosaicDataset;\\arcgisprod12\GISData\Data\FloodModels.gdb\dbo_FLOOD_Adopted_Scenarios_High_Hazard MosaicDataset;\\arcgisprod12\GISData\Data\FloodModels.gdb\dbo_FLOOD_Adopted_Scenarios_Velocity MosaicDataset;\\arcgisprod12\GISData\Data\FloodModels.gdb\dbo_FLOOD_AdoptedScenarios_Depth MosaicDataset;\\arcgisprod12\GISData\Data\FloodModels.gdb\dbo_FLOOD_AdoptedScenarios_Grid MosaicDataset" "\\GISmaps\ServiceMxds\_Connection_Files\SDE Connections Prod\SQL03PROD GIS SDE.sde" dbo_FLOOD_Adopted_Scenarios_Elevation;dbo_FLOOD_Adopted_Scenarios_High_Hazard;dbo_FLOOD_Adopted_Scenarios_Velocity;dbo_FLOOD_AdoptedScenarios_Depth;dbo_FLOOD_AdoptedScenarios_Grid "dbo_FLOOD_Adopted_Scenarios_Elevation MosaicDataset DBO.dbo_FLOOD_Adopted_Scenarios_Elevation #;dbo_FLOOD_Adopted_Scenarios_High_Hazard MosaicDataset DBO.dbo_FLOOD_Adopted_Scenarios_High_Hazard #;dbo_FLOOD_Adopted_Scenarios_Velocity MosaicDataset DBO.dbo_FLOOD_Adopted_Scenarios_Velocity #;dbo_FLOOD_AdoptedScenarios_Depth MosaicDataset DBO.dbo_FLOOD_AdoptedScenarios_Depth #;dbo_FLOOD_AdoptedScenarios_Grid MosaicDataset DBO.dbo_FLOOD_AdoptedScenarios_Grid #"</Process>
<Process Date="20250818" Time="074924" ToolSource="c:\program files\arcgis\pro\Resources\ArcToolbox\Toolboxes\Data Management Tools.tbx\Rename">Rename "\\GISmaps\ServiceMxds\_Connection_Files\SDE Connections Prod\SQL03PROD GIS SDE.sde\DBO.dbo_FLOOD_Adopted_Scenarios_Elevation" "\\GISmaps\ServiceMxds\_Connection_Files\SDE Connections Prod\SQL03PROD GIS SDE.sde\DBO.HAZARDS_FLOOD_Adopted_Scenarios_Elevation" MosaicDataset</Process>
<Process Date="20250912" Time="203048" ToolSource="c:\program files\arcgis\pro\Resources\ArcToolbox\toolboxes\Data Management Tools.tbx\BuildPyramidsandStatistics">BuildPyramidsandStatistics "C:\Users\DanielW\AppData\Roaming\Esri\ArcGISPro\Favorites\SQL03PROD GIS GISWebEditor.sde\DBO.HAZARDS_FLOOD_Adopted_Scenarios_Elevation" INCLUDE_SUBDIRECTORIES BUILD_PYRAMIDS CALCULATE_STATISTICS NONE # NONE 1 1 # -1 NONE "Nearest neighbor" Default 75 SKIP_EXISTING # NONE</Process>
</lineage>
<itemProps>
<itemLocation>
<linkage Sync="TRUE">Server=SQL03PROD; Service=sde:sqlserver:SQL03PROD; Database=GIS; User=SDE; Version=dbo.DEFAULT</linkage>
<protocol Sync="TRUE">ArcSDE Connection</protocol>
</itemLocation>
<itemName Sync="TRUE">GIS_RASTER.DBO.FLOOD_Adopted_Scenarios_Elevation</itemName>
<nativeExtBox>
<westBL Sync="TRUE">1499826.019860</westBL>
<eastBL Sync="TRUE">1684260.019860</eastBL>
<southBL Sync="TRUE">5139125.959390</southBL>
<northBL Sync="TRUE">5353459.959390</northBL>
<exTypeCode Sync="TRUE">1</exTypeCode>
</nativeExtBox>
</itemProps>
<coordRef>
<type Sync="TRUE">Projected</type>
<geogcsn Sync="TRUE">GCS_NZGD_2000</geogcsn>
<csUnits Sync="TRUE">Linear Unit: Meter (1.000000)</csUnits>
<projcsn Sync="TRUE">NZGD_2000_New_Zealand_Transverse_Mercator</projcsn>
<peXml Sync="TRUE">&lt;ProjectedCoordinateSystem xsi:type='typens:ProjectedCoordinateSystem' xmlns:xsi='http://www.w3.org/2001/XMLSchema-instance' xmlns:xs='http://www.w3.org/2001/XMLSchema' xmlns:typens='http://www.esri.com/schemas/ArcGIS/2.4.0'&gt;&lt;WKT&gt;PROJCS[&amp;quot;NZGD_2000_New_Zealand_Transverse_Mercator&amp;quot;,GEOGCS[&amp;quot;GCS_NZGD_2000&amp;quot;,DATUM[&amp;quot;D_NZGD_2000&amp;quot;,SPHEROID[&amp;quot;GRS_1980&amp;quot;,6378137.0,298.257222101]],PRIMEM[&amp;quot;Greenwich&amp;quot;,0.0],UNIT[&amp;quot;Degree&amp;quot;,0.0174532925199433]],PROJECTION[&amp;quot;Transverse_Mercator&amp;quot;],PARAMETER[&amp;quot;False_Easting&amp;quot;,1600000.0],PARAMETER[&amp;quot;False_Northing&amp;quot;,10000000.0],PARAMETER[&amp;quot;Central_Meridian&amp;quot;,173.0],PARAMETER[&amp;quot;Scale_Factor&amp;quot;,0.9996],PARAMETER[&amp;quot;Latitude_Of_Origin&amp;quot;,0.0],UNIT[&amp;quot;Meter&amp;quot;,1.0],AUTHORITY[&amp;quot;EPSG&amp;quot;,2193]]&lt;/WKT&gt;&lt;XOrigin&gt;-4020900&lt;/XOrigin&gt;&lt;YOrigin&gt;1900&lt;/YOrigin&gt;&lt;XYScale&gt;450445547.3910538&lt;/XYScale&gt;&lt;ZOrigin&gt;-100000&lt;/ZOrigin&gt;&lt;ZScale&gt;10000&lt;/ZScale&gt;&lt;MOrigin&gt;-100000&lt;/MOrigin&gt;&lt;MScale&gt;10000&lt;/MScale&gt;&lt;XYTolerance&gt;0.001&lt;/XYTolerance&gt;&lt;ZTolerance&gt;0.001&lt;/ZTolerance&gt;&lt;MTolerance&gt;0.001&lt;/MTolerance&gt;&lt;HighPrecision&gt;true&lt;/HighPrecision&gt;&lt;WKID&gt;2193&lt;/WKID&gt;&lt;LatestWKID&gt;2193&lt;/LatestWKID&gt;&lt;/ProjectedCoordinateSystem&gt;</peXml>
</coordRef>
<RasterProperties>
<General>
<PixelDepth Sync="TRUE">32</PixelDepth>
<HasColormap Sync="TRUE">FALSE</HasColormap>
<CompressionType Sync="TRUE">None</CompressionType>
<NumBands Sync="TRUE">1</NumBands>
<Format Sync="TRUE">AMD</Format>
<HasPyramids Sync="TRUE">TRUE</HasPyramids>
<SourceType Sync="TRUE">continuous</SourceType>
<PixelType Sync="TRUE">floating point</PixelType>
<NoDataValue Sync="TRUE"/>
</General>
<Properties>
<MaxImageHeight Sync="TRUE">4100</MaxImageHeight>
<MaxImageWidth Sync="TRUE">15000</MaxImageWidth>
<MaxRecordCount Sync="TRUE">1000</MaxRecordCount>
<MaxDownloadImageCount Sync="TRUE">20</MaxDownloadImageCount>
<MaxDownloadSizeLimit Sync="TRUE">2048</MaxDownloadSizeLimit>
<MaxMosaicImageCount Sync="TRUE">20</MaxMosaicImageCount>
<DefaultCompressionQuality Sync="TRUE">75</DefaultCompressionQuality>
<DefaultCompressionTolerance Sync="TRUE">0.01</DefaultCompressionTolerance>
<BlendWidth Sync="TRUE">10</BlendWidth>
<ViewpointSpacingX Sync="TRUE">600</ViewpointSpacingX>
<ViewpointSpacingY Sync="TRUE">300</ViewpointSpacingY>
<AllowedItemMetadata Sync="TRUE">Basic</AllowedItemMetadata>
<DefaultResamplingMethod Sync="TRUE">1</DefaultResamplingMethod>
<AllowedMosaicMethods Sync="TRUE">NorthWest,Center,LockRaster,ByAttribute,Nadir,Viewpoint,Seamline,None</AllowedMosaicMethods>
<AllowedCompressions Sync="TRUE">None,JPEG,LZ77,LERC</AllowedCompressions>
<AllowedMensurationCapabilities Sync="TRUE">Basic</AllowedMensurationCapabilities>
<AvailableMensurationCapabilities Sync="TRUE">None,Basic,Base-Top Height,Top-Top Shadow Height,Base-Top Shadow Height,3D</AvailableMensurationCapabilities>
<ClipToBoundary Sync="TRUE">-1</ClipToBoundary>
<FootprintMayContainNoData Sync="TRUE">-1</FootprintMayContainNoData>
<CellSizeTolerance Sync="TRUE">0.8</CellSizeTolerance>
<MinimumPixelContribution Sync="TRUE">1</MinimumPixelContribution>
<AvailableMosaicMethods Sync="TRUE">NorthWest,Center,LockRaster,ByAttribute,Nadir,Viewpoint,Seamline,None</AvailableMosaicMethods>
<AvailableCompressionMethods Sync="TRUE">None,JPEG,LZ77,LERC</AvailableCompressionMethods>
<AvailableItemMetadataLevels Sync="TRUE">None,Basic,Full</AvailableItemMetadataLevels>
<BandDefinitionKeyword Sync="TRUE">NONE</BandDefinitionKeyword>
<_docversion_ Sync="TRUE">10</_docversion_>
<AllowedFields Sync="TRUE">Name,MinPS,MaxPS,LowPS,HighPS,Tag,GroupName,ProductName,CenterX,CenterY,ZOrder,Shape_Length,Shape_Area,Location_,ShortName,LongName,ModelDescription,ScenarioDescription,ClimateChangeAllowance,Comments,ChangesFromPrevVersion,FloodScenario,ResultType,FloodplainTopography,RiverCrossSections,PeakRiverFlow,BreachLocation,PeakBreachFlow,ProducedBy,ProducedDate,ProducedFor,ModellingSoftware,AdoptedScenario,VerticalDatum,RasterLocation,ASCFileName,MethodRasterCalc,ModelGridName,ModelGridLoc,TechReportLink,StoryMapLink</AllowedFields>
<LowCellSize Sync="TRUE">2</LowCellSize>
<HighCellSize Sync="TRUE">40</HighCellSize>
<MaxCellSize Sync="TRUE">400</MaxCellSize>
<TimeStamp.RemoveItems Sync="TRUE">44133.1870138542</TimeStamp.RemoveItems>
<TimeStamp.UpdateExtent Sync="TRUE">44133.1870408218</TimeStamp.UpdateExtent>
<ApplyColorCorrection Sync="TRUE">0</ApplyColorCorrection>
<PixelCacheLocation Sync="TRUE">C:\Users\DanielW\AppData\Local\ESRI\rasterproxies\GIS_RASTER.DBO.FLOOD_Adopted_Scenarios_Elevation</PixelCacheLocation>
</Properties>
<Functions Sync="TRUE">
<Function Description="Performs on-the-fly mosaic on a raster catalog." Name="Mosaic Function"/>
</Functions>
</RasterProperties>
</DataProperties>
<SyncDate>20210209</SyncDate>
<SyncTime>16031500</SyncTime>
<ModDate>20210209</ModDate>
<ModTime>16031500</ModTime>
</Esri>
<dataIdInfo>
<envirDesc Sync="TRUE">Microsoft Windows 10 Version 10.0 (Build 17134) ; Esri ArcGIS 12.4.0.19948</envirDesc>
<dataLang>
<languageCode Sync="TRUE" value="eng"/>
<countryCode Sync="TRUE" value="NZL"/>
</dataLang>
<idCitation>
<resTitle Sync="TRUE">Adopted_Scenarios_Elevation</resTitle>
<presForm>
<PresFormCd Sync="TRUE" value="005"/>
</presForm>
</idCitation>
<spatRpType>
<SpatRepTypCd Sync="TRUE" value="002"/>
</spatRpType>
<dataExt>
<geoEle>
<GeoBndBox esriExtentType="search">
<exTypeCode Sync="TRUE">1</exTypeCode>
<westBL Sync="TRUE">171.752763</westBL>
<eastBL Sync="TRUE">174.049132</eastBL>
<northBL Sync="TRUE">-41.964488</northBL>
<southBL Sync="TRUE">-43.900971</southBL>
</GeoBndBox>
</geoEle>
</dataExt>
<idAbs/>
<searchKeys>
<keyword>FloodModels</keyword>
</searchKeys>
<idPurp>Flood Models - Adopted_Scenarios_Elevation</idPurp>
<idCredit/>
<resConst>
<Consts>
<useLimit/>
</Consts>
</resConst>
</dataIdInfo>
<mdLang>
<languageCode Sync="TRUE" value="eng"/>
<countryCode Sync="TRUE" value="NZL"/>
</mdLang>
<refSysInfo>
<RefSystem>
<refSysID>
<identCode Sync="TRUE" code="2193"/>
<idCodeSpace Sync="TRUE">EPSG</idCodeSpace>
<idVersion Sync="TRUE">7.9.4(9.0.0)</idVersion>
</refSysID>
</RefSystem>
</refSysInfo>
<spatRepInfo>
<Georect>
<cellGeo>
<CellGeoCd Sync="TRUE" value="002"/>
</cellGeo>
<numDims Sync="TRUE">2</numDims>
<tranParaAv Sync="TRUE">1</tranParaAv>
<chkPtAv Sync="TRUE">0</chkPtAv>
<cornerPts>
<pos Sync="TRUE">1499826.019860 5139125.959390</pos>
</cornerPts>
<cornerPts>
<pos Sync="TRUE">1499826.019860 5353459.959390</pos>
</cornerPts>
<cornerPts>
<pos Sync="TRUE">1684260.019860 5353459.959390</pos>
</cornerPts>
<cornerPts>
<pos Sync="TRUE">1684260.019860 5139125.959390</pos>
</cornerPts>
<centerPt>
<pos Sync="TRUE">1592043.019860 5246292.959390</pos>
</centerPt>
<axisDimension type="002">
<dimSize Sync="TRUE">92217</dimSize>
<dimResol>
<value Sync="TRUE" uom="m">2.000000</value>
</dimResol>
</axisDimension>
<axisDimension type="001">
<dimSize Sync="TRUE">107167</dimSize>
<dimResol>
<value Sync="TRUE" uom="m">2.000000</value>
</dimResol>
</axisDimension>
<ptInPixel>
<PixOrientCd Sync="TRUE" value="001"/>
</ptInPixel>
</Georect>
</spatRepInfo>
<contInfo>
<ImgDesc>
<contentTyp>
<ContentTypCd Sync="TRUE" value="001"/>
</contentTyp>
<covDim>
<Band>
<dimDescrp Sync="TRUE">Band_1</dimDescrp>
<maxVal Sync="TRUE">189.710364</maxVal>
<minVal Sync="TRUE">-0.127768</minVal>
<bitsPerVal Sync="TRUE">32</bitsPerVal>
<valUnit>
<UOM type="length"/>
</valUnit>
</Band>
</covDim>
</ImgDesc>
</contInfo>
<mdDateSt Sync="TRUE">20210209</mdDateSt>
</metadata>
