{
 "currentVersion": 11.3,
 "serviceDescription": "4 band infrared aerial imagery in Canterbury",
 "name": "Imagery/Latest_Imagery_Infrared",
 "description": "4 band infrared aerial imagery in Canterbury",
 "extent": {
  "xmin": 1315958.3832,
  "ymin": 4943920.15,
  "xmax": 1708000.0332,
  "ymax": 5407045.2,
  "spatialReference": {
   "wkid": 2193,
   "latestWkid": 2193
  }
 },
 "initialExtent": {
  "xmin": 1315958.3832,
  "ymin": 4943920.15,
  "xmax": 1708000.0332,
  "ymax": 5407045.2,
  "spatialReference": {
   "wkid": 2193,
   "latestWkid": 2193
  }
 },
 "fullExtent": {
  "xmin": 1315958.3832,
  "ymin": 4943920.15,
  "xmax": 1708000.0332,
  "ymax": 5407045.2,
  "spatialReference": {
   "wkid": 2193,
   "latestWkid": 2193
  }
 },
 "sortableFields": "",
 "bandCount": 4,
 "pixelType": "U8",
 "minValues": [],
 "maxValues": [],
 "meanValues": [],
 "stdvValues": [],
 "hasMultidimensions": false,
 "pixelSizeX": 0.04999999999999999,
 "pixelSizeY": 0.04999999999999998,
 "meanPixelSize": 0.04999999999999999,
 "datasetFormat": "AMD",
 "uncompressedSize": 290502894013332,
 "blockWidth": 2048,
 "blockHeight": 256,
 "compressionType": "None",
 "bandNames": [
  "Band_1",
  "Band_2",
  "Band_3",
  "Band_4"
 ],
 "allowCopy": false,
 "allowAnalysis": false,
 "itemAccess": false,
 "inspectionCapabilities": "",
 "minPixelSize": 0,
 "maxPixelSize": 0,
 "copyrightText": "",
 "serviceDataType": "esriImageServiceDataTypeGeneric",
 "serviceSourceType": "esriImageServiceSourceTypeMosaicDataset",
 "objectIdField": "OBJECTID",
 "fields": [
  {
   "name": "OBJECTID",
   "type": "esriFieldTypeOID",
   "alias": "OBJECTID",
   "domain": null
  },
  {
   "name": "Shape",
   "type": "esriFieldTypeGeometry",
   "alias": "Shape",
   "domain": null
  },
  {
   "name": "Name",
   "type": "esriFieldTypeString",
   "alias": "Name",
   "domain": null,
   "length": 200
  },
  {
   "name": "MinPS",
   "type": "esriFieldTypeDouble",
   "alias": "MinPS",
   "domain": null
  },
  {
   "name": "MaxPS",
   "type": "esriFieldTypeDouble",
   "alias": "MaxPS",
   "domain": null
  },
  {
   "name": "LowPS",
   "type": "esriFieldTypeDouble",
   "alias": "LowPS",
   "domain": null
  },
  {
   "name": "HighPS",
   "type": "esriFieldTypeDouble",
   "alias": "HighPS",
   "domain": null
  },
  {
   "name": "Category",
   "type": "esriFieldTypeInteger",
   "alias": "Category",
   "domain": {
    "type": "codedValue",
    "name": "MosaicCatalogItemCategoryDomain",
    "description": "Catalog item categories.",
    "codedValues": [
     {
      "name": "Unknown",
      "code": 0
     },
     {
      "name": "Primary",
      "code": 1
     },
     {
      "name": "Overview",
      "code": 2
     },
     {
      "name": "Unprocessed Overview",
      "code": 3
     },
     {
      "name": "Partial Overview",
      "code": 4
     },
     {
      "name": "Inactive",
      "code": 5
     },
     {
      "name": "Uploaded",
      "code": 253
     },
     {
      "name": "Incomplete",
      "code": 254
     },
     {
      "name": "Custom",
      "code": 255
     }
    ],
    "mergePolicy": "esriMPTDefaultValue",
    "splitPolicy": "esriSPTDefaultValue"
   }
  },
  {
   "name": "Tag",
   "type": "esriFieldTypeString",
   "alias": "Tag",
   "domain": null,
   "length": 100
  },
  {
   "name": "GroupName",
   "type": "esriFieldTypeString",
   "alias": "GroupName",
   "domain": null,
   "length": 100
  },
  {
   "name": "ProductName",
   "type": "esriFieldTypeString",
   "alias": "ProductName",
   "domain": null,
   "length": 100
  },
  {
   "name": "CenterX",
   "type": "esriFieldTypeDouble",
   "alias": "CenterX",
   "domain": null
  },
  {
   "name": "CenterY",
   "type": "esriFieldTypeDouble",
   "alias": "CenterY",
   "domain": null
  },
  {
   "name": "ZOrder",
   "type": "esriFieldTypeInteger",
   "alias": "ZOrder",
   "domain": null
  },
  {
   "name": "Shape_Length",
   "type": "esriFieldTypeDouble",
   "alias": "Shape_Length",
   "domain": null
  },
  {
   "name": "Shape_Area",
   "type": "esriFieldTypeDouble",
   "alias": "Shape_Area",
   "domain": null
  },
  {
   "name": "SURVEY_NAME",
   "type": "esriFieldTypeString",
   "alias": "SURVEY_NAME",
   "domain": null,
   "length": 50
  },
  {
   "name": "DATE_FLOWN",
   "type": "esriFieldTypeDate",
   "alias": "DATE_FLOWN",
   "domain": null,
   "length": 8
  },
  {
   "name": "ALTITUDE",
   "type": "esriFieldTypeString",
   "alias": "ALTITUDE",
   "domain": null,
   "length": 10
  },
  {
   "name": "COORD_SYSTEM_XY",
   "type": "esriFieldTypeString",
   "alias": "COORD_SYSTEM_XY",
   "domain": null,
   "length": 50
  },
  {
   "name": "COORD_SYSTEM_Z",
   "type": "esriFieldTypeString",
   "alias": "COORD_SYSTEM_Z",
   "domain": null,
   "length": 50
  },
  {
   "name": "ACCURACY_XY",
   "type": "esriFieldTypeString",
   "alias": "ACCURACY_XY",
   "domain": null,
   "length": 30
  },
  {
   "name": "ACCURACY_Z",
   "type": "esriFieldTypeString",
   "alias": "ACCURACY_Z",
   "domain": null,
   "length": 30
  },
  {
   "name": "OWNER",
   "type": "esriFieldTypeString",
   "alias": "OWNER",
   "domain": null,
   "length": 50
  },
  {
   "name": "LICENSE",
   "type": "esriFieldTypeString",
   "alias": "LICENSE",
   "domain": null,
   "length": 100
  },
  {
   "name": "LICENSE_DESCRIPTION",
   "type": "esriFieldTypeString",
   "alias": "LICENSE_DESCRIPTION",
   "domain": null,
   "length": 50
  }
 ],
 "capabilities": "Catalog,Download,Image,Metadata",
 "defaultMosaicMethod": "ByAttribute",
 "allowedMosaicMethods": "ByAttribute,NorthWest,Center,LockRaster,Nadir,Viewpoint,Seamline,None",
 "sortField": "ZOrder",
 "sortValue": "0",
 "sortAscending": true,
 "mosaicOperator": "First",
 "maxDownloadSizeLimit": 2048,
 "defaultCompressionQuality": 75,
 "defaultResamplingMethod": "Bilinear",
 "maxImageHeight": 4100,
 "maxImageWidth": 15000,
 "maxRecordCount": 1000,
 "maxDownloadImageCount": 20,
 "maxMosaicImageCount": 200,
 "allowRasterFunction": true,
 "rasterFunctionInfos": [
  {
   "name": "RGB Composite",
   "description": "A raster function template.",
   "help": ""
  },
  {
   "name": "None",
   "description": "A No-Op Function.",
   "help": ""
  }
 ],
 "rasterTypeInfos": [
  {
   "name": "Raster Dataset",
   "description": "Supports all ArcGIS Raster Datasets",
   "help": ""
  }
 ],
 "mensurationCapabilities": "",
 "hasHistograms": false,
 "hasColormap": false,
 "hasRasterAttributeTable": false,
 "minScale": 0,
 "maxScale": 0,
 "exportTilesAllowed": false,
 "supportsStatistics": true,
 "supportsAdvancedQueries": true,
 "editFieldsInfo": null,
 "ownershipBasedAccessControlForRasters": null,
 "allowComputeTiePoints": false,
 "useStandardizedQueries": true,
 "advancedQueryCapabilities": {
  "useStandardizedQueries": true,
  "supportsStatistics": true,
  "supportsOrderBy": true,
  "supportsDistinct": true,
  "supportsPagination": true
 },
 "spatialReference": {
  "wkid": 2193,
  "latestWkid": 2193
 },
 "resampling": false
}
