{
 "currentVersion": 11.3,
 "serviceDescription": "Imagery/NIWA_Classification_Ihutai_2024",
 "name": "Imagery/NIWA_Classification_Ihutai_2024",
 "description": "",
 "extent": {
  "xmin": 1575504.1354980469,
  "ymin": 5176271.207277613,
  "xmax": 1579917.9046223834,
  "ymax": 5182025.963317871,
  "spatialReference": {
   "wkt2": "COMPOUNDCRS[\"\",PROJCRS[\"NZGD_2000_New_Zealand_Transverse_Mercator\",BASEGEOGCRS[\"GCS_NZGD_2000\",DATUM[\"D_NZGD_2000\",ELLIPSOID[\"GRS_1980\",6378137.0,298.257222101,LENGTHUNIT[\"Meter\",1.0]]],PRIMEM[\"Greenwich\",0.0,ANGLEUNIT[\"Degree\",0.0174532925199433]],CS[ellipsoidal,2],AXIS[\"Latitude (lat)\",north,ORDER[1]],AXIS[\"Longitude (lon)\",east,ORDER[2]],ANGLEUNIT[\"Degree\",0.0174532925199433]],CONVERSION[\"Transverse_Mercator\",METHOD[\"Transverse_Mercator\"],PARAMETER[\"False_Easting\",1600000.0,LENGTHUNIT[\"Meter\",1.0]],PARAMETER[\"False_Northing\",10000000.0,LENGTHUNIT[\"Meter\",1.0]],PARAMETER[\"Central_Meridian\",173.0,ANGLEUNIT[\"Degree\",0.0174532925199433]],PARAMETER[\"Scale_Factor\",0.9996,SCALEUNIT[\"Unity\",1.0]],PARAMETER[\"Latitude_Of_Origin\",0.0,ANGLEUNIT[\"Degree\",0.0174532925199433]]],CS[Cartesian,2],AXIS[\"Northing (Y)\",north,ORDER[1]],AXIS[\"Easting (X)\",east,ORDER[2]],LENGTHUNIT[\"Meter\",1.0]],VERTCRS[\"unknown\",VDATUM[\"unknown\"],CS[vertical,1],AXIS[\"Gravity-related height (H)\",up,LENGTHUNIT[\"Meter\",1.0]]]]",
   "wkt": "PROJCS[\"NZGD_2000_New_Zealand_Transverse_Mercator\",GEOGCS[\"GCS_NZGD_2000\",DATUM[\"D_NZGD_2000\",SPHEROID[\"GRS_1980\",6378137.0,298.257222101]],PRIMEM[\"Greenwich\",0.0],UNIT[\"Degree\",0.0174532925199433]],PROJECTION[\"Transverse_Mercator\"],PARAMETER[\"False_Easting\",1600000.0],PARAMETER[\"False_Northing\",10000000.0],PARAMETER[\"Central_Meridian\",173.0],PARAMETER[\"Scale_Factor\",0.9996],PARAMETER[\"Latitude_Of_Origin\",0.0],UNIT[\"Meter\",1.0]],VERTCS[\"unknown\",VDATUM[\"unknown\"],PARAMETER[\"Vertical_Shift\",0.0],PARAMETER[\"Direction\",1.0],UNIT[\"Meter\",1.0]]"
  }
 },
 "initialExtent": {
  "xmin": 1575504.1354980469,
  "ymin": 5176271.207277613,
  "xmax": 1579917.9046223834,
  "ymax": 5182025.963317871,
  "spatialReference": {
   "wkt2": "COMPOUNDCRS[\"\",PROJCRS[\"NZGD_2000_New_Zealand_Transverse_Mercator\",BASEGEOGCRS[\"GCS_NZGD_2000\",DATUM[\"D_NZGD_2000\",ELLIPSOID[\"GRS_1980\",6378137.0,298.257222101,LENGTHUNIT[\"Meter\",1.0]]],PRIMEM[\"Greenwich\",0.0,ANGLEUNIT[\"Degree\",0.0174532925199433]],CS[ellipsoidal,2],AXIS[\"Latitude (lat)\",north,ORDER[1]],AXIS[\"Longitude (lon)\",east,ORDER[2]],ANGLEUNIT[\"Degree\",0.0174532925199433]],CONVERSION[\"Transverse_Mercator\",METHOD[\"Transverse_Mercator\"],PARAMETER[\"False_Easting\",1600000.0,LENGTHUNIT[\"Meter\",1.0]],PARAMETER[\"False_Northing\",10000000.0,LENGTHUNIT[\"Meter\",1.0]],PARAMETER[\"Central_Meridian\",173.0,ANGLEUNIT[\"Degree\",0.0174532925199433]],PARAMETER[\"Scale_Factor\",0.9996,SCALEUNIT[\"Unity\",1.0]],PARAMETER[\"Latitude_Of_Origin\",0.0,ANGLEUNIT[\"Degree\",0.0174532925199433]]],CS[Cartesian,2],AXIS[\"Northing (Y)\",north,ORDER[1]],AXIS[\"Easting (X)\",east,ORDER[2]],LENGTHUNIT[\"Meter\",1.0]],VERTCRS[\"unknown\",VDATUM[\"unknown\"],CS[vertical,1],AXIS[\"Gravity-related height (H)\",up,LENGTHUNIT[\"Meter\",1.0]]]]",
   "wkt": "PROJCS[\"NZGD_2000_New_Zealand_Transverse_Mercator\",GEOGCS[\"GCS_NZGD_2000\",DATUM[\"D_NZGD_2000\",SPHEROID[\"GRS_1980\",6378137.0,298.257222101]],PRIMEM[\"Greenwich\",0.0],UNIT[\"Degree\",0.0174532925199433]],PROJECTION[\"Transverse_Mercator\"],PARAMETER[\"False_Easting\",1600000.0],PARAMETER[\"False_Northing\",10000000.0],PARAMETER[\"Central_Meridian\",173.0],PARAMETER[\"Scale_Factor\",0.9996],PARAMETER[\"Latitude_Of_Origin\",0.0],UNIT[\"Meter\",1.0]],VERTCS[\"unknown\",VDATUM[\"unknown\"],PARAMETER[\"Vertical_Shift\",0.0],PARAMETER[\"Direction\",1.0],UNIT[\"Meter\",1.0]]"
  }
 },
 "fullExtent": {
  "xmin": 1575504.1354980469,
  "ymin": 5176271.207277613,
  "xmax": 1579917.9046223834,
  "ymax": 5182025.963317871,
  "spatialReference": {
   "wkt2": "COMPOUNDCRS[\"\",PROJCRS[\"NZGD_2000_New_Zealand_Transverse_Mercator\",BASEGEOGCRS[\"GCS_NZGD_2000\",DATUM[\"D_NZGD_2000\",ELLIPSOID[\"GRS_1980\",6378137.0,298.257222101,LENGTHUNIT[\"Meter\",1.0]]],PRIMEM[\"Greenwich\",0.0,ANGLEUNIT[\"Degree\",0.0174532925199433]],CS[ellipsoidal,2],AXIS[\"Latitude (lat)\",north,ORDER[1]],AXIS[\"Longitude (lon)\",east,ORDER[2]],ANGLEUNIT[\"Degree\",0.0174532925199433]],CONVERSION[\"Transverse_Mercator\",METHOD[\"Transverse_Mercator\"],PARAMETER[\"False_Easting\",1600000.0,LENGTHUNIT[\"Meter\",1.0]],PARAMETER[\"False_Northing\",10000000.0,LENGTHUNIT[\"Meter\",1.0]],PARAMETER[\"Central_Meridian\",173.0,ANGLEUNIT[\"Degree\",0.0174532925199433]],PARAMETER[\"Scale_Factor\",0.9996,SCALEUNIT[\"Unity\",1.0]],PARAMETER[\"Latitude_Of_Origin\",0.0,ANGLEUNIT[\"Degree\",0.0174532925199433]]],CS[Cartesian,2],AXIS[\"Northing (Y)\",north,ORDER[1]],AXIS[\"Easting (X)\",east,ORDER[2]],LENGTHUNIT[\"Meter\",1.0]],VERTCRS[\"unknown\",VDATUM[\"unknown\"],CS[vertical,1],AXIS[\"Gravity-related height (H)\",up,LENGTHUNIT[\"Meter\",1.0]]]]",
   "wkt": "PROJCS[\"NZGD_2000_New_Zealand_Transverse_Mercator\",GEOGCS[\"GCS_NZGD_2000\",DATUM[\"D_NZGD_2000\",SPHEROID[\"GRS_1980\",6378137.0,298.257222101]],PRIMEM[\"Greenwich\",0.0],UNIT[\"Degree\",0.0174532925199433]],PROJECTION[\"Transverse_Mercator\"],PARAMETER[\"False_Easting\",1600000.0],PARAMETER[\"False_Northing\",10000000.0],PARAMETER[\"Central_Meridian\",173.0],PARAMETER[\"Scale_Factor\",0.9996],PARAMETER[\"Latitude_Of_Origin\",0.0],UNIT[\"Meter\",1.0]],VERTCS[\"unknown\",VDATUM[\"unknown\"],PARAMETER[\"Vertical_Shift\",0.0],PARAMETER[\"Direction\",1.0],UNIT[\"Meter\",1.0]]"
  }
 },
 "sortableFields": "",
 "heightModelInfo": {
  "heightModel": "gravity_related_height",
  "vertCRS": "unknown",
  "heightUnit": "meter"
 },
 "bandCount": 1,
 "pixelType": "U8",
 "minValues": [
  0
 ],
 "maxValues": [
  8
 ],
 "meanValues": [
  2.3270916749228627
 ],
 "stdvValues": [
  2.3715550920881583
 ],
 "hasMultidimensions": false,
 "pixelSizeX": 0.14164855983108282,
 "pixelSizeY": 0.14164855983110575,
 "meanPixelSize": 0.14164855983109428,
 "datasetFormat": "FGDBR",
 "uncompressedSize": 1265937320,
 "blockWidth": 128,
 "blockHeight": 128,
 "compressionType": "LZ77",
 "bandNames": [
  "Band_1"
 ],
 "allowCopy": true,
 "allowAnalysis": true,
 "itemAccess": false,
 "inspectionCapabilities": "",
 "minPixelSize": 0,
 "maxPixelSize": 0,
 "copyrightText": "",
 "serviceDataType": "esriImageServiceDataTypeThematic",
 "serviceSourceType": "esriImageServiceSourceTypeDataset",
 "objectIdField": "",
 "fields": [],
 "capabilities": "Image,Metadata,Mensuration",
 "defaultMosaicMethod": "Center",
 "allowedMosaicMethods": "",
 "sortField": "",
 "sortValue": null,
 "sortAscending": true,
 "mosaicOperator": "First",
 "defaultCompressionQuality": 75,
 "defaultResamplingMethod": "Bilinear",
 "maxImageHeight": 4100,
 "maxImageWidth": 15000,
 "allowRasterFunction": true,
 "rasterFunctionInfos": [
  {
   "name": "None",
   "description": "",
   "help": ""
  }
 ],
 "rasterTypeInfos": [
  {
   "name": "Raster Dataset",
   "description": "Supports all ArcGIS Raster Datasets",
   "help": ""
  }
 ],
 "mensurationCapabilities": "Basic",
 "hasHistograms": true,
 "hasColormap": false,
 "hasRasterAttributeTable": true,
 "minScale": 0,
 "maxScale": 0,
 "exportTilesAllowed": false,
 "supportsStatistics": false,
 "supportsAdvancedQueries": false,
 "editFieldsInfo": null,
 "ownershipBasedAccessControlForRasters": null,
 "allowComputeTiePoints": false,
 "useStandardizedQueries": true,
 "advancedQueryCapabilities": {
  "useStandardizedQueries": true,
  "supportsStatistics": false,
  "supportsOrderBy": false,
  "supportsDistinct": false,
  "supportsPagination": false
 },
 "spatialReference": {
  "wkt2": "COMPOUNDCRS[\"\",PROJCRS[\"NZGD_2000_New_Zealand_Transverse_Mercator\",BASEGEOGCRS[\"GCS_NZGD_2000\",DATUM[\"D_NZGD_2000\",ELLIPSOID[\"GRS_1980\",6378137.0,298.257222101,LENGTHUNIT[\"Meter\",1.0]]],PRIMEM[\"Greenwich\",0.0,ANGLEUNIT[\"Degree\",0.0174532925199433]],CS[ellipsoidal,2],AXIS[\"Latitude (lat)\",north,ORDER[1]],AXIS[\"Longitude (lon)\",east,ORDER[2]],ANGLEUNIT[\"Degree\",0.0174532925199433]],CONVERSION[\"Transverse_Mercator\",METHOD[\"Transverse_Mercator\"],PARAMETER[\"False_Easting\",1600000.0,LENGTHUNIT[\"Meter\",1.0]],PARAMETER[\"False_Northing\",10000000.0,LENGTHUNIT[\"Meter\",1.0]],PARAMETER[\"Central_Meridian\",173.0,ANGLEUNIT[\"Degree\",0.0174532925199433]],PARAMETER[\"Scale_Factor\",0.9996,SCALEUNIT[\"Unity\",1.0]],PARAMETER[\"Latitude_Of_Origin\",0.0,ANGLEUNIT[\"Degree\",0.0174532925199433]]],CS[Cartesian,2],AXIS[\"Northing (Y)\",north,ORDER[1]],AXIS[\"Easting (X)\",east,ORDER[2]],LENGTHUNIT[\"Meter\",1.0]],VERTCRS[\"unknown\",VDATUM[\"unknown\"],CS[vertical,1],AXIS[\"Gravity-related height (H)\",up,LENGTHUNIT[\"Meter\",1.0]]]]",
  "wkt": "PROJCS[\"NZGD_2000_New_Zealand_Transverse_Mercator\",GEOGCS[\"GCS_NZGD_2000\",DATUM[\"D_NZGD_2000\",SPHEROID[\"GRS_1980\",6378137.0,298.257222101]],PRIMEM[\"Greenwich\",0.0],UNIT[\"Degree\",0.0174532925199433]],PROJECTION[\"Transverse_Mercator\"],PARAMETER[\"False_Easting\",1600000.0],PARAMETER[\"False_Northing\",10000000.0],PARAMETER[\"Central_Meridian\",173.0],PARAMETER[\"Scale_Factor\",0.9996],PARAMETER[\"Latitude_Of_Origin\",0.0],UNIT[\"Meter\",1.0]],VERTCS[\"unknown\",VDATUM[\"unknown\"],PARAMETER[\"Vertical_Shift\",0.0],PARAMETER[\"Direction\",1.0],UNIT[\"Meter\",1.0]]"
 }
}
