View In:
ArcGIS JavaScript
ArcGIS Online Map Viewer
ArcGIS Earth
ArcMap
View Footprint In:
ArcGIS Online Map Viewer
Service Description: Test/2020_05_18_small_c_jpeg_google_3_master_tif
Name: Test/2020_05_18_small_c_jpeg_google_3_master_tif
Description:
Single Fused Map Cache: false
Extent:
XMin: 1.8550349520472858E7
YMin: -5713820.738373496
XMax: 1.9098250139221E7
YMax: -5596413.462927464
Spatial Reference: 102100
(3857)
Initial Extent:
XMin: 1.8550349520472858E7
YMin: -5713820.738373496
XMax: 1.9098250139221E7
YMax: -5596413.462927464
Spatial Reference: 102100
(3857)
Full Extent:
XMin: 1.8550349520472858E7
YMin: -5713820.738373496
XMax: 1.9098250139221E7
YMax: -5596413.462927464
Spatial Reference: 102100
(3857)
Pixel Size X: 19.10925707129406
Pixel Size Y: 19.10925707129415
Band Count: 3
Pixel Type: U8
RasterFunction Infos: {"rasterFunctionInfos": [{
"name": "None",
"description": "",
"help": ""
}]}
Mensuration Capabilities: Basic
Has Histograms: false
Has Colormap: false
Has Multi Dimensions : false
Rendering Rule:
Min Scale: 0
Max Scale: 0
Copyright Text:
Service Data Type: esriImageServiceDataTypeRGB
Min Values: N/A
Max Values: N/A
Mean Values: N/A
Standard Deviation Values: N/A
Object ID Field:
Fields:
None
Default Mosaic Method: Center
Allowed Mosaic Methods:
SortField:
SortValue: null
Mosaic Operator: First
Default Compression Quality: 75
Default Resampling Method: Bilinear
Max Record Count: null
Max Image Height: 4100
Max Image Width: 15000
Max Download Image Count: null
Max Mosaic Image Count: null
Allow Raster Function: true
Allow Copy: true
Allow Analysis: true
Allow Compute TiePoints: false
Supports Statistics: false
Supports Advanced Queries: false
Use StandardizedQueries: true
Raster Type Infos:
Name: Raster Dataset
Description: Supports all ArcGIS Raster Datasets
Help:
Has Raster Attribute Table: false
Edit Fields Info: null
Ownership Based AccessControl For Rasters: null
Child Resources:
Info
Statistics
Key Properties
Legend
Raster Function Infos
Supported Operations:
Export Image
Identify
Measure
Compute Histograms
Compute Statistics Histograms
Get Samples
Compute Class Statistics
Query Boundary
Compute Pixel Location
Validate
Project