{ "currentVersion": 11.3, "serviceDescription": "
This data shows modelled water velocities for multiple different tsunami scenarios. The modelling assumes high tide (mean high water springs) and calm sea conditions. It does not include future sea level rise.<\/span><\/p> <\/p> <\/p> The data has been used, along with other logistical and communication considerations, to define tsunami evacuation zones in Canterbury. It can be used for public education, for engineering lifelines planning, some land use planning and by Civil Defence Emergency Management during tsunami events. The data should not be used to make independent decisions that contradict official advice.<\/span><\/p> <\/p> <\/p> Links to modelling reports, references, data currency, and vertical datums of results are detailed in the mosaic attribute table.<\/span><\/p> <\/p> <\/p> Please contact Daniel Ward (daniel.ward@ecan.govt.nz) or Nick Griffiths (nick.griffiths@ecan.govt.nz) for any queries regarding this data.<\/span><\/p><\/div>",
"name": "TsunamiModels/TSUNAMI_Adopted_Scenarios_Velocity",
"description": " This data shows modelled water velocities for multiple different tsunami scenarios. The modelling assumes high tide (mean high water springs) and calm sea conditions. It does not include future sea level rise.<\/span><\/p> <\/p> <\/p> The data has been used, along with other logistical and communication considerations, to define tsunami evacuation zones in Canterbury. It can be used for public education, for engineering lifelines planning, some land use planning and by Civil Defence Emergency Management during tsunami events. The data should not be used to make independent decisions that contradict official advice.<\/span><\/p> <\/p> <\/p> Links to modelling reports, references, data currency, and vertical datums of results are detailed in the mosaic attribute table.<\/span><\/p> <\/p> <\/p> Please contact Daniel Ward (daniel.ward@ecan.govt.nz) or Nick Griffiths (nick.griffiths@ecan.govt.nz) for any queries regarding this data.<\/span><\/p><\/div>",
"extent": {
"xmin": 171.04984849,
"ymin": -44.94520142,
"xmax": 174.06939411,
"ymax": -41.94011843,
"spatialReference": {
"wkid": 4326,
"latestWkid": 4326,
"vcsWkid": 5763,
"latestVcsWkid": 5763
}
},
"initialExtent": {
"xmin": 171.04984849,
"ymin": -44.94520142,
"xmax": 174.06939411,
"ymax": -41.94011843,
"spatialReference": {
"wkid": 4326,
"latestWkid": 4326,
"vcsWkid": 5763,
"latestVcsWkid": 5763
}
},
"fullExtent": {
"xmin": 171.04984849,
"ymin": -44.94520142,
"xmax": 174.06939411,
"ymax": -41.94011843,
"spatialReference": {
"wkid": 4326,
"latestWkid": 4326,
"vcsWkid": 5763,
"latestVcsWkid": 5763
}
},
"sortableFields": "MinPS,MaxPS,LowPS,HighPS,CenterX,CenterY,ZOrder,Value1,Value2,Value3",
"heightModelInfo": {
"heightModel": "gravity_related_height",
"vertCRS": "Lyttelton",
"heightUnit": "meter"
},
"bandCount": 1,
"pixelType": "F32",
"minValues": [],
"maxValues": [],
"meanValues": [],
"stdvValues": [],
"hasMultidimensions": false,
"pixelSizeX": 8.983000000000007E-5,
"pixelSizeY": 8.982999999999994E-5,
"meanPixelSize": 9.999829857959764,
"datasetFormat": "AMD",
"uncompressedSize": 4497956568,
"blockWidth": 2048,
"blockHeight": 256,
"compressionType": "None",
"bandNames": [
"Band_1"
],
"allowCopy": true,
"allowAnalysis": true,
"itemAccess": false,
"inspectionCapabilities": "",
"minPixelSize": 0,
"maxPixelSize": 0,
"copyrightText": "",
"serviceDataType": "esriImageServiceDataTypeGeneric",
"serviceSourceType": "esriImageServiceSourceTypeMosaicDataset",
"objectIdField": "OBJECTID",
"fields": [
{
"name": "OBJECTID",
"type": "esriFieldTypeOID",
"alias": "OBJECTID",
"domain": null
},
{
"name": "Name",
"type": "esriFieldTypeString",
"alias": "Name",
"domain": null,
"length": 200
},
{
"name": "MinPS",
"type": "esriFieldTypeDouble",
"alias": "MinPS",
"domain": null
},
{
"name": "MaxPS",
"type": "esriFieldTypeDouble",
"alias": "MaxPS",
"domain": null
},
{
"name": "LowPS",
"type": "esriFieldTypeDouble",
"alias": "LowPS",
"domain": null
},
{
"name": "HighPS",
"type": "esriFieldTypeDouble",
"alias": "HighPS",
"domain": null
},
{
"name": "Category",
"type": "esriFieldTypeInteger",
"alias": "Category",
"domain": {
"type": "codedValue",
"name": "MosaicCatalogItemCategoryDomain",
"description": "Catalog item categories.",
"codedValues": [
{
"name": "Unknown",
"code": 0
},
{
"name": "Primary",
"code": 1
},
{
"name": "Overview",
"code": 2
},
{
"name": "Unprocessed Overview",
"code": 3
},
{
"name": "Partial Overview",
"code": 4
},
{
"name": "Inactive",
"code": 5
},
{
"name": "Uploaded",
"code": 253
},
{
"name": "Incomplete",
"code": 254
},
{
"name": "Custom",
"code": 255
}
],
"mergePolicy": "esriMPTDefaultValue",
"splitPolicy": "esriSPTDefaultValue"
}
},
{
"name": "Tag",
"type": "esriFieldTypeString",
"alias": "Tag",
"domain": null,
"length": 100
},
{
"name": "GroupName",
"type": "esriFieldTypeString",
"alias": "GroupName",
"domain": null,
"length": 100
},
{
"name": "ProductName",
"type": "esriFieldTypeString",
"alias": "ProductName",
"domain": null,
"length": 100
},
{
"name": "CenterX",
"type": "esriFieldTypeDouble",
"alias": "CenterX",
"domain": null
},
{
"name": "CenterY",
"type": "esriFieldTypeDouble",
"alias": "CenterY",
"domain": null
},
{
"name": "ZOrder",
"type": "esriFieldTypeInteger",
"alias": "ZOrder",
"domain": null
},
{
"name": "F_Long_name",
"type": "esriFieldTypeString",
"alias": "F_Long_name",
"domain": null,
"length": 350
},
{
"name": "Description",
"type": "esriFieldTypeString",
"alias": "Description",
"domain": null,
"length": 350
},
{
"name": "Tsunami_source",
"type": "esriFieldTypeString",
"alias": "Tsunami_source",
"domain": null,
"length": 350
},
{
"name": "Fault_slip_scenario",
"type": "esriFieldTypeString",
"alias": "Fault_slip_scenario",
"domain": null,
"length": 350
},
{
"name": "Individual_ensemble",
"type": "esriFieldTypeString",
"alias": "Individual_ensemble",
"domain": null,
"length": 350
},
{
"name": "Viewable_for_public",
"type": "esriFieldTypeString",
"alias": "Viewable_for_public",
"domain": null,
"length": 350
},
{
"name": "Estimated_wave_amplitude_at_coa",
"type": "esriFieldTypeString",
"alias": "Estimated_wave_amplitude_at_coast_nearest_m_",
"domain": null,
"length": 350
},
{
"name": "Estimated_return_period_of_sour",
"type": "esriFieldTypeString",
"alias": "Estimated_return_period_of_source_earthquake",
"domain": null,
"length": 350
},
{
"name": "Location",
"type": "esriFieldTypeString",
"alias": "Location",
"domain": null,
"length": 350
},
{
"name": "NEMA_tsunami_forecast_zone",
"type": "esriFieldTypeString",
"alias": "NEMA_tsunami_forecast_zone",
"domain": null,
"length": 350
},
{
"name": "Sea_Level_Rise_m_",
"type": "esriFieldTypeString",
"alias": "Sea_Level_Rise_m_",
"domain": null,
"length": 350
},
{
"name": "Result_type",
"type": "esriFieldTypeString",
"alias": "Result_type",
"domain": null,
"length": 350
},
{
"name": "Model_used",
"type": "esriFieldTypeString",
"alias": "Model_used",
"domain": null,
"length": 350
},
{
"name": "Digital_Elevation_Model_topogra",
"type": "esriFieldTypeString",
"alias": "Digital_Elevation_Model_topography",
"domain": null,
"length": 350
},
{
"name": "Digital_Elevation_Model_bathyme",
"type": "esriFieldTypeString",
"alias": "Digital_Elevation_Model_bathymetry",
"domain": null,
"length": 350
},
{
"name": "Vertcial_datum",
"type": "esriFieldTypeString",
"alias": "Vertcial_datum",
"domain": null,
"length": 350
},
{
"name": "Coordinate_system",
"type": "esriFieldTypeString",
"alias": "Coordinate_system",
"domain": null,
"length": 350
},
{
"name": "Tide_stage",
"type": "esriFieldTypeString",
"alias": "Tide_stage",
"domain": null,
"length": 350
},
{
"name": "Produced_by",
"type": "esriFieldTypeString",
"alias": "Produced_by",
"domain": null,
"length": 350
},
{
"name": "Produced_date",
"type": "esriFieldTypeString",
"alias": "Produced_date",
"domain": null,
"length": 350
},
{
"name": "Produced_for",
"type": "esriFieldTypeString",
"alias": "Produced_for",
"domain": null,
"length": 350
},
{
"name": "File_location",
"type": "esriFieldTypeString",
"alias": "File_location",
"domain": null,
"length": 350
},
{
"name": "Comments",
"type": "esriFieldTypeString",
"alias": "Comments",
"domain": null,
"length": 500
},
{
"name": "Adopted",
"type": "esriFieldTypeString",
"alias": "Adopted",
"domain": null,
"length": 350
},
{
"name": "Technical_report_reference",
"type": "esriFieldTypeString",
"alias": "Technical_report_reference",
"domain": null,
"length": 350
},
{
"name": "Link_to_technical_report",
"type": "esriFieldTypeString",
"alias": "Link_to_technical_report",
"domain": null,
"length": 350
},
{
"name": "Link_to_storymap",
"type": "esriFieldTypeString",
"alias": "Link_to_storymap",
"domain": null,
"length": 350
},
{
"name": "Link_to_simple_tsunami_source_m",
"type": "esriFieldTypeString",
"alias": "Link_to_simple_tsunami_source_map",
"domain": null,
"length": 350
},
{
"name": "Link_to_tsunami_source_model",
"type": "esriFieldTypeString",
"alias": "Link_to_tsunami_source_model",
"domain": null,
"length": 350
},
{
"name": "Link_to_wave_amplitude_at_coast",
"type": "esriFieldTypeString",
"alias": "Link_to_wave_amplitude_at_coast_image",
"domain": null,
"length": 350
},
{
"name": "Comments2",
"type": "esriFieldTypeString",
"alias": "Comments2",
"domain": null,
"length": 255
},
{
"name": "Comments3",
"type": "esriFieldTypeString",
"alias": "Comments3",
"domain": null,
"length": 350
},
{
"name": "Comments4",
"type": "esriFieldTypeString",
"alias": "Comments4",
"domain": null,
"length": 255
},
{
"name": "Comments5",
"type": "esriFieldTypeString",
"alias": "Comments5",
"domain": null,
"length": 255
},
{
"name": "Value1",
"type": "esriFieldTypeDouble",
"alias": "Value1",
"domain": null
},
{
"name": "Value2",
"type": "esriFieldTypeDouble",
"alias": "Value2",
"domain": null
},
{
"name": "Value3",
"type": "esriFieldTypeDouble",
"alias": "Value3",
"domain": null
},
{
"name": "Shape",
"type": "esriFieldTypeGeometry",
"alias": "Shape",
"domain": null
}
],
"capabilities": "Catalog,Mensuration,Image,Metadata",
"defaultMosaicMethod": "Northwest",
"allowedMosaicMethods": "NorthWest,Center,LockRaster,ByAttribute,Nadir,Viewpoint,Seamline,None",
"sortField": "",
"sortValue": null,
"sortAscending": true,
"mosaicOperator": "First",
"maxDownloadSizeLimit": 2048,
"defaultCompressionQuality": 75,
"defaultResamplingMethod": "Bilinear",
"maxImageHeight": 4100,
"maxImageWidth": 15000,
"maxRecordCount": 1000,
"maxDownloadImageCount": 20,
"maxMosaicImageCount": 20,
"allowRasterFunction": true,
"rasterFunctionInfos": [
{
"name": "VelCB",
"description": "A raster function template.",
"help": ""
},
{
"name": "None",
"description": "",
"help": ""
}
],
"rasterTypeInfos": [
{
"name": "Raster Dataset",
"description": "Supports all ArcGIS Raster Datasets",
"help": ""
}
],
"mensurationCapabilities": "Basic",
"hasHistograms": false,
"hasColormap": false,
"hasRasterAttributeTable": false,
"minScale": 0,
"maxScale": 0,
"exportTilesAllowed": false,
"supportsStatistics": true,
"supportsAdvancedQueries": true,
"editFieldsInfo": null,
"ownershipBasedAccessControlForRasters": null,
"allowComputeTiePoints": false,
"useStandardizedQueries": true,
"advancedQueryCapabilities": {
"useStandardizedQueries": true,
"supportsStatistics": true,
"supportsOrderBy": true,
"supportsDistinct": true,
"supportsPagination": true
},
"spatialReference": {
"wkid": 4326,
"latestWkid": 4326,
"vcsWkid": 5763,
"latestVcsWkid": 5763
},
"resampling": false
}