{
 "currentVersion": 11.3,
 "serviceDescription": "This web service is sourced from the Tsunami Alternative Scenarios Inundation Frequency mosaic located in SQL03PROD_RASTER_GISWebEditor.sde database. This data shows the proportion of scenarios that inundate a given point for multiple different tsunami scenarios. The modelling assumes high tide (mean high water springs) and calm sea conditions. It does not include future sea level rise.\nThe data has been used, along with other logistical and communication considerations, to define tsunami evacuation zones in Canterbury. It can be used for public education, for engineering lifelines planning, some land use planning and by Civil Defence Emergency Management during tsunami events. The data should not be used to make independent decisions that contradict official advice.\nLinks to modelling reports, references, data currency, and vertical datums of results are detailed in the mosaic attribute table.\nPlease contact Daniel Ward (daniel.ward@ecan.govt.nz) or Nick Griffiths (nick.griffiths@ecan.govt.nz) for any queries regarding this data.",
 "name": "TsunamiModels/TSUNAMI_Alternative_Scenarios_Inundation_Frequency",
 "description": "This web service is sourced from the Tsunami Alternative Scenarios Inundation Frequency mosaic located in SQL03PROD_RASTER_GISWebEditor.sde database. This data shows the proportion of scenarios that inundate a given point for multiple different tsunami scenarios. The modelling assumes high tide (mean high water springs) and calm sea conditions. It does not include future sea level rise.\nThe data has been used, along with other logistical and communication considerations, to define tsunami evacuation zones in Canterbury. It can be used for public education, for engineering lifelines planning, some land use planning and by Civil Defence Emergency Management during tsunami events. The data should not be used to make independent decisions that contradict official advice.\nLinks to modelling reports, references, data currency, and vertical datums of results are detailed in the mosaic attribute table.\nPlease contact Daniel Ward (daniel.ward@ecan.govt.nz) or Nick Griffiths (nick.griffiths@ecan.govt.nz) for any queries regarding this data.",
 "extent": {
  "xmin": 41,
  "ymin": -10600583,
  "xmax": 10600655,
  "ymax": 31,
  "spatialReference": {
   "wkid": 2193,
   "latestWkid": 2193
  }
 },
 "initialExtent": {
  "xmin": 41,
  "ymin": -10600583,
  "xmax": 10600655,
  "ymax": 31,
  "spatialReference": {
   "wkid": 2193,
   "latestWkid": 2193
  }
 },
 "fullExtent": {
  "xmin": 41,
  "ymin": -10600583,
  "xmax": 10600655,
  "ymax": 31,
  "spatialReference": {
   "wkid": 2193,
   "latestWkid": 2193
  }
 },
 "sortableFields": "MinPS,MaxPS,LowPS,HighPS,CenterX,CenterY,ZOrder,MiscValue1,MiscValue2,MisValue3",
 "bandCount": 1,
 "pixelType": "F32",
 "minValues": [
  0.013972078450024168
 ],
 "maxValues": [
  21.307138048112392
 ],
 "meanValues": [
  3.478119608345608
 ],
 "stdvValues": [
  1.411353193194315
 ],
 "hasMultidimensions": false,
 "pixelSizeX": 10600614,
 "pixelSizeY": 10600614,
 "meanPixelSize": 10600614,
 "datasetFormat": "AMD",
 "uncompressedSize": 4,
 "blockWidth": 2048,
 "blockHeight": 256,
 "compressionType": "None",
 "bandNames": [
  "Band_1"
 ],
 "allowCopy": true,
 "allowAnalysis": true,
 "itemAccess": false,
 "inspectionCapabilities": "",
 "minPixelSize": 0,
 "maxPixelSize": 0,
 "copyrightText": "",
 "serviceDataType": "esriImageServiceDataTypeGeneric",
 "serviceSourceType": "esriImageServiceSourceTypeMosaicDataset",
 "objectIdField": "OBJECTID",
 "fields": [
  {
   "name": "OBJECTID",
   "type": "esriFieldTypeOID",
   "alias": "OBJECTID",
   "domain": null
  },
  {
   "name": "Name",
   "type": "esriFieldTypeString",
   "alias": "Name",
   "domain": null,
   "length": 200
  },
  {
   "name": "MinPS",
   "type": "esriFieldTypeDouble",
   "alias": "MinPS",
   "domain": null
  },
  {
   "name": "MaxPS",
   "type": "esriFieldTypeDouble",
   "alias": "MaxPS",
   "domain": null
  },
  {
   "name": "LowPS",
   "type": "esriFieldTypeDouble",
   "alias": "LowPS",
   "domain": null
  },
  {
   "name": "HighPS",
   "type": "esriFieldTypeDouble",
   "alias": "HighPS",
   "domain": null
  },
  {
   "name": "Category",
   "type": "esriFieldTypeInteger",
   "alias": "Category",
   "domain": {
    "type": "codedValue",
    "name": "MosaicCatalogItemCategoryDomain",
    "description": "Catalog item categories.",
    "codedValues": [
     {
      "name": "Unknown",
      "code": 0
     },
     {
      "name": "Primary",
      "code": 1
     },
     {
      "name": "Overview",
      "code": 2
     },
     {
      "name": "Unprocessed Overview",
      "code": 3
     },
     {
      "name": "Partial Overview",
      "code": 4
     },
     {
      "name": "Inactive",
      "code": 5
     },
     {
      "name": "Uploaded",
      "code": 253
     },
     {
      "name": "Incomplete",
      "code": 254
     },
     {
      "name": "Custom",
      "code": 255
     }
    ],
    "mergePolicy": "esriMPTDefaultValue",
    "splitPolicy": "esriSPTDefaultValue"
   }
  },
  {
   "name": "Tag",
   "type": "esriFieldTypeString",
   "alias": "Tag",
   "domain": null,
   "length": 100
  },
  {
   "name": "GroupName",
   "type": "esriFieldTypeString",
   "alias": "GroupName",
   "domain": null,
   "length": 100
  },
  {
   "name": "ProductName",
   "type": "esriFieldTypeString",
   "alias": "ProductName",
   "domain": null,
   "length": 100
  },
  {
   "name": "CenterX",
   "type": "esriFieldTypeDouble",
   "alias": "CenterX",
   "domain": null
  },
  {
   "name": "CenterY",
   "type": "esriFieldTypeDouble",
   "alias": "CenterY",
   "domain": null
  },
  {
   "name": "ZOrder",
   "type": "esriFieldTypeInteger",
   "alias": "ZOrder",
   "domain": null
  },
  {
   "name": "LongName",
   "type": "esriFieldTypeString",
   "alias": "Long Name",
   "domain": null,
   "length": 255
  },
  {
   "name": "TsunamiSource",
   "type": "esriFieldTypeString",
   "alias": "Tsunami Source",
   "domain": null,
   "length": 255
  },
  {
   "name": "FaultSlipScenario",
   "type": "esriFieldTypeString",
   "alias": "Fault Slip Scenario",
   "domain": null,
   "length": 255
  },
  {
   "name": "Individual_Ensemble",
   "type": "esriFieldTypeString",
   "alias": "Model Type",
   "domain": null,
   "length": 255
  },
  {
   "name": "PublicView",
   "type": "esriFieldTypeString",
   "alias": "Viewable for Public",
   "domain": null,
   "length": 255
  },
  {
   "name": "WaveHeightCoast",
   "type": "esriFieldTypeString",
   "alias": "Estimated Wave Height at Coast",
   "domain": null,
   "length": 255
  },
  {
   "name": "ReturnPeriodQuake",
   "type": "esriFieldTypeString",
   "alias": "Estimated Return Period of Source Earthquake",
   "domain": null,
   "length": 255
  },
  {
   "name": "ReturnPeriodWave",
   "type": "esriFieldTypeString",
   "alias": "Estimated Return Period of Wave Height at Coast",
   "domain": null,
   "length": 255
  },
  {
   "name": "Location",
   "type": "esriFieldTypeString",
   "alias": "Location",
   "domain": null,
   "length": 255
  },
  {
   "name": "NEMAZone",
   "type": "esriFieldTypeString",
   "alias": "NEMA Tsunami Forecast Zone",
   "domain": null,
   "length": 255
  },
  {
   "name": "ResultType",
   "type": "esriFieldTypeString",
   "alias": "Result Type",
   "domain": null,
   "length": 255
  },
  {
   "name": "ModellingSoftware",
   "type": "esriFieldTypeString",
   "alias": "Modelling Software",
   "domain": null,
   "length": 255
  },
  {
   "name": "DEMTopography",
   "type": "esriFieldTypeString",
   "alias": "Digital Elevation Model Topography",
   "domain": null,
   "length": 255
  },
  {
   "name": "DEMBathymetry",
   "type": "esriFieldTypeString",
   "alias": "Digital Elevation Model Bathymetry",
   "domain": null,
   "length": 255
  },
  {
   "name": "VerticalDatum",
   "type": "esriFieldTypeString",
   "alias": "Vertical Datum",
   "domain": null,
   "length": 255
  },
  {
   "name": "CoordinateSystem",
   "type": "esriFieldTypeString",
   "alias": "Coordinate System",
   "domain": null,
   "length": 255
  },
  {
   "name": "TidalStage",
   "type": "esriFieldTypeString",
   "alias": "TidalStage",
   "domain": null,
   "length": 255
  },
  {
   "name": "ProducedBy",
   "type": "esriFieldTypeString",
   "alias": "Produced By",
   "domain": null,
   "length": 255
  },
  {
   "name": "ProducedDate",
   "type": "esriFieldTypeString",
   "alias": "ProducedDate",
   "domain": null,
   "length": 255
  },
  {
   "name": "ProducedFor",
   "type": "esriFieldTypeString",
   "alias": "Produced For",
   "domain": null,
   "length": 255
  },
  {
   "name": "FileName",
   "type": "esriFieldTypeString",
   "alias": "File Name",
   "domain": null,
   "length": 255
  },
  {
   "name": "FileLocation",
   "type": "esriFieldTypeString",
   "alias": "File Location",
   "domain": null,
   "length": 255
  },
  {
   "name": "Comments",
   "type": "esriFieldTypeString",
   "alias": "Comments",
   "domain": null,
   "length": 255
  },
  {
   "name": "Adopted",
   "type": "esriFieldTypeString",
   "alias": "Adopted",
   "domain": null,
   "length": 255
  },
  {
   "name": "TechReportReference",
   "type": "esriFieldTypeString",
   "alias": "Technical Report Reference",
   "domain": null,
   "length": 255
  },
  {
   "name": "TechReportLink",
   "type": "esriFieldTypeString",
   "alias": "Link to Technical Report",
   "domain": null,
   "length": 255
  },
  {
   "name": "StoryMapLink",
   "type": "esriFieldTypeString",
   "alias": "Link to Story Map",
   "domain": null,
   "length": 255
  },
  {
   "name": "SourceMapLink",
   "type": "esriFieldTypeString",
   "alias": "Link to Simple Tsunami Source Map",
   "domain": null,
   "length": 255
  },
  {
   "name": "SourceModelLink",
   "type": "esriFieldTypeString",
   "alias": "Link to Simple Tsunamu Source Model",
   "domain": null,
   "length": 255
  },
  {
   "name": "WaveHeightLink",
   "type": "esriFieldTypeString",
   "alias": "Link to Wave Height at Coast Image",
   "domain": null,
   "length": 255
  },
  {
   "name": "ModelDescription",
   "type": "esriFieldTypeString",
   "alias": "Model Description",
   "domain": null,
   "length": 255
  },
  {
   "name": "VirtualTideGaugeLink1",
   "type": "esriFieldTypeString",
   "alias": "Link to Virtual Tide Gauge",
   "domain": null,
   "length": 255
  },
  {
   "name": "Comments2",
   "type": "esriFieldTypeString",
   "alias": "Comments 2",
   "domain": null,
   "length": 255
  },
  {
   "name": "Comments3",
   "type": "esriFieldTypeString",
   "alias": "Comments 3",
   "domain": null,
   "length": 255
  },
  {
   "name": "Comments4",
   "type": "esriFieldTypeString",
   "alias": "Comments 4",
   "domain": null,
   "length": 255
  },
  {
   "name": "Comments5",
   "type": "esriFieldTypeString",
   "alias": "Comments 5",
   "domain": null,
   "length": 255
  },
  {
   "name": "MiscValue1",
   "type": "esriFieldTypeDouble",
   "alias": "Value 1",
   "domain": null
  },
  {
   "name": "MiscValue2",
   "type": "esriFieldTypeDouble",
   "alias": "Value 2",
   "domain": null
  },
  {
   "name": "MisValue3",
   "type": "esriFieldTypeDouble",
   "alias": "Value 3",
   "domain": null
  },
  {
   "name": "VirtualTideGaugeLink2",
   "type": "esriFieldTypeString",
   "alias": "Link to Virtual Tide Gauge 2",
   "domain": null,
   "length": 255
  },
  {
   "name": "VirtualTideGaugeLink3",
   "type": "esriFieldTypeString",
   "alias": "Link to Virtual Tide Gauge 3",
   "domain": null,
   "length": 255
  },
  {
   "name": "Shape",
   "type": "esriFieldTypeGeometry",
   "alias": "Shape",
   "domain": null
  }
 ],
 "capabilities": "Catalog,Mensuration,Image,Metadata",
 "defaultMosaicMethod": "Northwest",
 "allowedMosaicMethods": "NorthWest,Center,LockRaster,ByAttribute,Nadir,Viewpoint,Seamline,None",
 "sortField": "",
 "sortValue": null,
 "sortAscending": true,
 "mosaicOperator": "First",
 "maxDownloadSizeLimit": 2048,
 "defaultCompressionQuality": 75,
 "defaultResamplingMethod": "Nearest",
 "maxImageHeight": 4100,
 "maxImageWidth": 15000,
 "maxRecordCount": 1000,
 "maxDownloadImageCount": 20,
 "maxMosaicImageCount": 20,
 "allowRasterFunction": true,
 "rasterFunctionInfos": [
  {
   "name": "test2",
   "description": "A raster function template.",
   "help": ""
  },
  {
   "name": "None",
   "description": "",
   "help": ""
  }
 ],
 "rasterTypeInfos": [
  {
   "name": "Raster Dataset",
   "description": "Supports all ArcGIS Raster Datasets",
   "help": ""
  }
 ],
 "mensurationCapabilities": "Basic",
 "hasHistograms": true,
 "hasColormap": false,
 "hasRasterAttributeTable": false,
 "minScale": 0,
 "maxScale": 0,
 "exportTilesAllowed": false,
 "supportsStatistics": true,
 "supportsAdvancedQueries": true,
 "editFieldsInfo": null,
 "ownershipBasedAccessControlForRasters": null,
 "allowComputeTiePoints": false,
 "useStandardizedQueries": true,
 "advancedQueryCapabilities": {
  "useStandardizedQueries": true,
  "supportsStatistics": true,
  "supportsOrderBy": true,
  "supportsDistinct": true,
  "supportsPagination": true
 },
 "spatialReference": {
  "wkid": 2193,
  "latestWkid": 2193
 },
 "resampling": false
}
