View In:
ArcGIS JavaScript
ArcGIS Online Map Viewer
ArcGIS Earth
Service Description: Elevation/Intensive_Winter_Grazing_Slope
Name: Elevation/Intensive_Winter_Grazing_Slope
Description:
Single Fused Map Cache: false
Extent:
XMin: 1323813.1677999995
YMin: 4950306.207699999
XMax: 1688157.1677999995
YMax: 5359730.207699999
Spatial Reference: 2193
(2193)
LatestVCSWkid(0)
Initial Extent:
XMin: 1323813.1677999995
YMin: 4950306.207699999
XMax: 1688157.1677999995
YMax: 5359730.207699999
Spatial Reference: 2193
(2193)
LatestVCSWkid(0)
Full Extent:
XMin: 1323813.1677999995
YMin: 4950306.207699999
XMax: 1688157.1677999995
YMax: 5359730.207699999
Spatial Reference: 2193
(2193)
LatestVCSWkid(0)
Pixel Size X: 8.0
Pixel Size Y: 8.0
Band Count: 1
Pixel Type: F32
RasterFunction Infos: {"rasterFunctionInfos": [
{
"name": "Slope for IWG",
"description": "Slope for IWG",
"help": ""
},
{
"name": "None",
"description": "Make a Raster or Raster Dataset into a Function Raster Dataset.",
"help": ""
}
]}
Mensuration Capabilities: None
Inspection Capabilities:
Has Histograms: true
Has Colormap: false
Has Multi Dimensions : false
Rendering Rule:
Min Scale: 0
Max Scale: 0
Resampling: false
Copyright Text:
Service Data Type: esriImageServiceDataTypeGeneric
Min Values: -0.029298000037670135
Max Values: 3682.30419921875
Mean Values: 660.2020445685232
Standard Deviation Values: 525.2959542171483
Object ID Field: OBJECTID
Fields:
-
OBJECTID
(
type: esriFieldTypeOID, alias: OBJECTID
)
-
Name
(
type: esriFieldTypeString, alias: Name, length: 50
)
-
MinPS
(
type: esriFieldTypeDouble, alias: MinPS
)
-
MaxPS
(
type: esriFieldTypeDouble, alias: MaxPS
)
-
LowPS
(
type: esriFieldTypeDouble, alias: LowPS
)
-
HighPS
(
type: esriFieldTypeDouble, alias: HighPS
)
-
Category
(
type: esriFieldTypeInteger, alias: Category
, Coded Values:
[0: Unknown]
, [1: Primary]
, [2: Overview]
, ...6 more...
)
-
Tag
(
type: esriFieldTypeString, alias: Tag, length: 20
)
-
GroupName
(
type: esriFieldTypeString, alias: GroupName, length: 50
)
-
ProductName
(
type: esriFieldTypeString, alias: ProductName, length: 50
)
-
CenterX
(
type: esriFieldTypeDouble, alias: CenterX
)
-
CenterY
(
type: esriFieldTypeDouble, alias: CenterY
)
-
ZOrder
(
type: esriFieldTypeInteger, alias: ZOrder
)
-
SURVEY_NAME
(
type: esriFieldTypeString, alias: SURVEY_NAME, length: 50
)
-
DATE_FLOWN
(
type: esriFieldTypeDate, alias: DATE_FLOWN, length: 8
)
-
ALTITUDE
(
type: esriFieldTypeString, alias: ALTITUDE, length: 10
)
-
COORD_SYSTEM_XY
(
type: esriFieldTypeString, alias: COORD_SYSTEM_XY, length: 50
)
-
COORD_SYSTEM_Z
(
type: esriFieldTypeString, alias: COORD_SYSTEM_Z, length: 50
)
-
ACCURACY_XY
(
type: esriFieldTypeString, alias: ACCURACY_XY, length: 30
)
-
ACCURACY_Z
(
type: esriFieldTypeString, alias: ACCURACY_Z, length: 30
)
-
OWNER
(
type: esriFieldTypeString, alias: OWNER, length: 50
)
-
LICENSE
(
type: esriFieldTypeString, alias: LICENSE, length: 100
)
-
LICENSE_DESCRIPTION
(
type: esriFieldTypeString, alias: LICENSE_DESCRIPTION, length: 50
)
-
Shape
(
type: esriFieldTypeGeometry, alias: Shape
)
Default Mosaic Method: Northwest
Allowed Mosaic Methods: NorthWest,Center,LockRaster,ByAttribute,Nadir,Viewpoint,Seamline,None
SortField:
SortValue: null
Mosaic Operator: First
Default Compression Quality: 75
Default Resampling Method: Bilinear
Max Record Count: 1000
Max Image Height: 4100
Max Image Width: 15000
Max Download Image Count: 20
Max Mosaic Image Count: 20
Allow Raster Function: true
Allow Copy: true
Allow Analysis: true
Allow Compute TiePoints: false
Supports Statistics: true
Supports Advanced Queries: true
Use StandardizedQueries: true
Raster Type Infos:
Name: Raster Dataset
Description: Supports all ArcGIS Raster Datasets
Help:
Has Raster Attribute Table: false
Edit Fields Info: null
Ownership Based AccessControl For Rasters: null
Child Resources:
Info
Histograms
Statistics
Key Properties
Legend
Raster Function Infos
Supported Operations:
Export Image
Query
Identify
Compute Histograms
Compute Statistics Histograms
Get Samples
Compute Class Statistics
Query GPS Info
Find Images
Image to Map
Map to Image
Measure from Image
Image to Map Multiray
Query Boundary
Compute Pixel Location
Compute Angles
Validate
Project