View In:
ArcGIS JavaScript
ArcGIS Online Map Viewer
ArcGIS Earth
Service Description: FloodModels/AdoptedScenarios_Grid
Name: FloodModels/AdoptedScenarios_Grid
Description:
Single Fused Map Cache: false
Extent:
XMin: 1363175.4150999999
YMin: 5041806.5
XMax: 1684259.9150999999
YMax: 5353460.0
Spatial Reference: 2193
(2193)
LatestVCSWkid(0)
Initial Extent:
XMin: 1363175.4150999999
YMin: 5041806.5
XMax: 1684259.9150999999
YMax: 5353460.0
Spatial Reference: 2193
(2193)
LatestVCSWkid(0)
Full Extent:
XMin: 1363175.4150999999
YMin: 5041806.5
XMax: 1684259.9150999999
YMax: 5353460.0
Spatial Reference: 2193
(2193)
LatestVCSWkid(0)
Pixel Size X: 0.5
Pixel Size Y: 0.5
Band Count: 1
Pixel Type: F32
RasterFunction Infos: {"rasterFunctionInfos": [
{
"name": "None",
"description": "Make a Raster or Raster Dataset into a Function Raster Dataset.",
"help": ""
},
{
"name": "Flood_Adopted_Scenarios_Grid",
"description": "A raster function template.",
"help": ""
}
]}
Mensuration Capabilities: Basic
Inspection Capabilities:
Has Histograms: true
Has Colormap: false
Has Multi Dimensions : false
Rendering Rule:
Min Scale: 0
Max Scale: 0
Resampling: false
Copyright Text:
Service Data Type: esriImageServiceDataTypeGeneric
Min Values: 248.5
Max Values: 445.85211181640625
Mean Values: 329.2523278239869
Standard Deviation Values: 41.86232033981612
Object ID Field: OBJECTID
Fields:
-
OBJECTID
(
type: esriFieldTypeOID, alias: OBJECTID
)
-
Name
(
type: esriFieldTypeString, alias: Name, length: 200
)
-
MinPS
(
type: esriFieldTypeDouble, alias: MinPS
)
-
MaxPS
(
type: esriFieldTypeDouble, alias: MaxPS
)
-
LowPS
(
type: esriFieldTypeDouble, alias: LowPS
)
-
HighPS
(
type: esriFieldTypeDouble, alias: HighPS
)
-
Category
(
type: esriFieldTypeInteger, alias: Category
, Coded Values:
[0: Unknown]
, [1: Primary]
, [2: Overview]
, ...6 more...
)
-
Tag
(
type: esriFieldTypeString, alias: Tag, length: 100
)
-
GroupName
(
type: esriFieldTypeString, alias: GroupName, length: 100
)
-
ProductName
(
type: esriFieldTypeString, alias: ProductName, length: 100
)
-
CenterX
(
type: esriFieldTypeDouble, alias: CenterX
)
-
CenterY
(
type: esriFieldTypeDouble, alias: CenterY
)
-
ZOrder
(
type: esriFieldTypeInteger, alias: ZOrder
)
-
Location
(
type: esriFieldTypeString, alias: Location, length: 255
)
-
ShortName
(
type: esriFieldTypeString, alias: Short Name, length: 255
)
-
LongName
(
type: esriFieldTypeString, alias: Long Name, length: 255
)
-
Comments
(
type: esriFieldTypeString, alias: Comments, length: 255
)
-
ChangesFromPrevVersion
(
type: esriFieldTypeString, alias: Changes from Previous Version, length: 255
)
-
ProducedBy
(
type: esriFieldTypeString, alias: Produced By, length: 255
)
-
ProducedDate
(
type: esriFieldTypeString, alias: Produced Date, length: 255
)
-
ProducedFor
(
type: esriFieldTypeString, alias: Produced For, length: 255
)
-
ModellingSoftware
(
type: esriFieldTypeString, alias: Modelling Software, length: 255
)
-
AdoptedScenario
(
type: esriFieldTypeString, alias: Adopted Scenario, length: 255
)
-
VerticalDatum
(
type: esriFieldTypeString, alias: Vertical Datum, length: 255
)
-
RasterLocation
(
type: esriFieldTypeString, alias: Raster Location, length: 255
)
-
TechReportLink
(
type: esriFieldTypeString, alias: Link to Technical Report, length: 255
)
-
StoryMapLink
(
type: esriFieldTypeString, alias: Link to StoryMap, length: 255
)
-
TopographicData
(
type: esriFieldTypeString, alias: TopographicData, length: 255
)
-
Topographic_Metadata
(
type: esriFieldTypeString, alias: Link to Topographic Metadata, length: 255
)
-
Bathymetric_Data
(
type: esriFieldTypeString, alias: Bathymetric Data, length: 255
)
-
Bathymetric_Metadata
(
type: esriFieldTypeString, alias: Bathymetric Metadata, length: 255
)
-
Grid_Details
(
type: esriFieldTypeString, alias: Grid Data Details, length: 255
)
-
Grid_Resolution
(
type: esriFieldTypeString, alias: Grid Resolution, length: 255
)
-
Grid_Description
(
type: esriFieldTypeString, alias: Grid Description, length: 255
)
-
Model_Bathymetry_File_Name
(
type: esriFieldTypeString, alias: Model Bathymetry File Name, length: 255
)
-
Shape
(
type: esriFieldTypeGeometry, alias: Shape
)
Default Mosaic Method: Northwest
Allowed Mosaic Methods: NorthWest,Center,LockRaster,ByAttribute,Nadir,Viewpoint,Seamline,None
SortField:
SortValue: null
Mosaic Operator: First
Default Compression Quality: 75
Default Resampling Method: Bilinear
Max Record Count: 1000
Max Image Height: 4100
Max Image Width: 15000
Max Download Image Count: 20
Max Mosaic Image Count: 50
Allow Raster Function: true
Allow Copy: false
Allow Analysis: false
Allow Compute TiePoints: false
Supports Statistics: true
Supports Advanced Queries: true
Use StandardizedQueries: true
Raster Type Infos:
Name: Raster Dataset
Description: Supports all ArcGIS Raster Datasets
Help:
Has Raster Attribute Table: false
Edit Fields Info: null
Ownership Based AccessControl For Rasters: null
Child Resources:
Info
Histograms
Statistics
Key Properties
Legend
Raster Function Infos
Supported Operations:
Export Image
Query
Identify
Measure
Compute Histograms
Compute Statistics Histograms
Get Samples
Compute Class Statistics
Query GPS Info
Find Images
Image to Map
Map to Image
Measure from Image
Image to Map Multiray
Query Boundary
Compute Pixel Location
Compute Angles
Validate
Project