View In:
ArcGIS JavaScript
ArcGIS Online Map Viewer
ArcGIS Earth
Service Description: FloodModels/Adopted_Scenarios_Velocity
Name: FloodModels/Adopted_Scenarios_Velocity
Description:
Single Fused Map Cache: false
Extent:
XMin: 1363175.4150999999
YMin: 5041806.5
XMax: 1684259.9150999999
YMax: 5353460.0
Spatial Reference: 2193
(2193)
LatestVCSWkid(0)
Initial Extent:
XMin: 1363175.4150999999
YMin: 5041806.5
XMax: 1684259.9150999999
YMax: 5353460.0
Spatial Reference: 2193
(2193)
LatestVCSWkid(0)
Full Extent:
XMin: 1363175.4150999999
YMin: 5041806.5
XMax: 1684259.9150999999
YMax: 5353460.0
Spatial Reference: 2193
(2193)
LatestVCSWkid(0)
Pixel Size X: 0.5
Pixel Size Y: 0.5
Band Count: 1
Pixel Type: F32
RasterFunction Infos: {"rasterFunctionInfos": [
{
"name": "VelCB",
"description": "A raster function template.",
"help": ""
},
{
"name": "None",
"description": "A No-Op Function.",
"help": ""
},
{
"name": "VelCB",
"description": "A raster function template.",
"help": ""
}
]}
Mensuration Capabilities: Basic
Inspection Capabilities:
Has Histograms: true
Has Colormap: false
Has Multi Dimensions : false
Rendering Rule:
Min Scale: 0
Max Scale: 0
Resampling: false
Copyright Text:
Service Data Type: esriImageServiceDataTypeGeneric
Min Values: 0.33530586957931524
Max Values: 1589.2868223190308
Mean Values: 0.4412195328621254
Standard Deviation Values: 0.3400362962443924
Object ID Field: OBJECTID
Fields:
-
OBJECTID
(
type: esriFieldTypeOID, alias: OBJECTID
)
-
Name
(
type: esriFieldTypeString, alias: Name, length: 200
)
-
MinPS
(
type: esriFieldTypeDouble, alias: MinPS
)
-
MaxPS
(
type: esriFieldTypeDouble, alias: MaxPS
)
-
LowPS
(
type: esriFieldTypeDouble, alias: LowPS
)
-
HighPS
(
type: esriFieldTypeDouble, alias: HighPS
)
-
Category
(
type: esriFieldTypeInteger, alias: Category
, Coded Values:
[0: Unknown]
, [1: Primary]
, [2: Overview]
, ...6 more...
)
-
Tag
(
type: esriFieldTypeString, alias: Tag, length: 100
)
-
GroupName
(
type: esriFieldTypeString, alias: GroupName, length: 100
)
-
ProductName
(
type: esriFieldTypeString, alias: ProductName, length: 100
)
-
CenterX
(
type: esriFieldTypeDouble, alias: CenterX
)
-
CenterY
(
type: esriFieldTypeDouble, alias: CenterY
)
-
ZOrder
(
type: esriFieldTypeInteger, alias: ZOrder
)
-
Location
(
type: esriFieldTypeString, alias: Location, length: 255
)
-
ShortName
(
type: esriFieldTypeString, alias: Short Name, length: 255
)
-
LongName
(
type: esriFieldTypeString, alias: Long Name, length: 255
)
-
ModelDescription
(
type: esriFieldTypeString, alias: Model Description, length: 255
)
-
ScenarioDescription
(
type: esriFieldTypeString, alias: Scenario Description, length: 255
)
-
ClimateChangeAllowance
(
type: esriFieldTypeString, alias: Climate Change Allowance, length: 255
)
-
Comments
(
type: esriFieldTypeString, alias: Comments, length: 255
)
-
ChangesFromPrevVersion
(
type: esriFieldTypeString, alias: Changes from Previous Version, length: 255
)
-
FloodScenario
(
type: esriFieldTypeString, alias: Flood Scenario, length: 255
)
-
ResultType
(
type: esriFieldTypeString, alias: Result Type, length: 255
)
-
FloodplainTopography
(
type: esriFieldTypeString, alias: Floodplain Topography, length: 255
)
-
RiverCrossSections
(
type: esriFieldTypeString, alias: River Cross Sections, length: 255
)
-
PeakRiverFlow
(
type: esriFieldTypeString, alias: Peak River Flow m3/s, length: 255
)
-
BreachLocation
(
type: esriFieldTypeString, alias: Breach Location, length: 255
)
-
PeakBreachFlow
(
type: esriFieldTypeString, alias: Peak Breach Flow m3/s, length: 255
)
-
ProducedBy
(
type: esriFieldTypeString, alias: Produced By, length: 255
)
-
ProducedDate
(
type: esriFieldTypeString, alias: Produced Date, length: 255
)
-
ProducedFor
(
type: esriFieldTypeString, alias: Produced For, length: 255
)
-
ModellingSoftware
(
type: esriFieldTypeString, alias: Modelling Software, length: 255
)
-
AdoptedScenario
(
type: esriFieldTypeString, alias: Adopted Scenario, length: 255
)
-
VerticalDatum
(
type: esriFieldTypeString, alias: Vertical Datum, length: 255
)
-
RasterLocation
(
type: esriFieldTypeString, alias: Raster Location, length: 255
)
-
ASCFileName
(
type: esriFieldTypeString, alias: ASC File Name, length: 255
)
-
MethodRasterCalc
(
type: esriFieldTypeString, alias: Method of Raster Calculation, length: 255
)
-
ModelGridName
(
type: esriFieldTypeString, alias: Model Grid Name, length: 255
)
-
ModelGridLoc
(
type: esriFieldTypeString, alias: Model Grid Location, length: 255
)
-
TechReportLink
(
type: esriFieldTypeString, alias: Link to Technical Report, length: 255
)
-
StoryMapLink
(
type: esriFieldTypeString, alias: Link to StoryMap, length: 255
)
-
Shape
(
type: esriFieldTypeGeometry, alias: Shape
)
Default Mosaic Method: Northwest
Allowed Mosaic Methods: NorthWest,Center,LockRaster,ByAttribute,Nadir,Viewpoint,Seamline,None
SortField:
SortValue: null
Mosaic Operator: First
Default Compression Quality: 75
Default Resampling Method: Nearest
Max Record Count: 1000
Max Image Height: 4100
Max Image Width: 15000
Max Download Image Count: 20
Max Mosaic Image Count: 20
Allow Raster Function: true
Allow Copy: false
Allow Analysis: false
Allow Compute TiePoints: false
Supports Statistics: true
Supports Advanced Queries: true
Use StandardizedQueries: true
Raster Type Infos:
Name: Raster Dataset
Description: Supports all ArcGIS Raster Datasets
Help:
Has Raster Attribute Table: false
Edit Fields Info: null
Ownership Based AccessControl For Rasters: null
Child Resources:
Info
Histograms
Statistics
Key Properties
Legend
Raster Function Infos
Supported Operations:
Export Image
Query
Identify
Measure
Compute Histograms
Compute Statistics Histograms
Get Samples
Compute Class Statistics
Query GPS Info
Find Images
Image to Map
Map to Image
Measure from Image
Image to Map Multiray
Query Boundary
Compute Pixel Location
Compute Angles
Validate
Project