View In:
ArcGIS JavaScript
ArcGIS Online Map Viewer
ArcGIS Earth
Service Description: Soil and Water Conservation Historic Plans held by Environment Canterbury
Name: Imagery/ECAN_Historic_Plans
Description: Soil and Water Conservation Historic Plans held by Environment Canterbury
Single Fused Map Cache: false
Extent:
XMin: 1391457.2681
YMin: 5006667.047231237
XMax: 1654400.778356357
YMax: 5345305.8993
Spatial Reference: 2193
(2193)
LatestVCSWkid(0)
Initial Extent:
XMin: 1391457.2681
YMin: 5006667.047231237
XMax: 1654400.778356357
YMax: 5345305.8993
Spatial Reference: 2193
(2193)
LatestVCSWkid(0)
Full Extent:
XMin: 1391457.2681
YMin: 5006667.047231237
XMax: 1654400.778356357
YMax: 5345305.8993
Spatial Reference: 2193
(2193)
LatestVCSWkid(0)
Pixel Size X: 0.16815395100000002
Pixel Size Y: 0.16815395100000013
Band Count: 3
Pixel Type: U8
RasterFunction Infos: {"rasterFunctionInfos": [{
"name": "None",
"description": "A No-Op Function.",
"help": ""
}]}
Mensuration Capabilities: None
Inspection Capabilities:
Has Histograms: false
Has Colormap: false
Has Multi Dimensions : false
Rendering Rule:
Min Scale: 0
Max Scale: 0
Resampling: false
Copyright Text: Environment Canterbury
Service Data Type: esriImageServiceDataTypeRGB
Min Values: N/A
Max Values: N/A
Mean Values: N/A
Standard Deviation Values: N/A
Object ID Field: OBJECTID
Fields:
-
OBJECTID
(
type: esriFieldTypeOID, alias: OBJECTID
)
-
Name
(
type: esriFieldTypeString, alias: Name, length: 200
)
-
MinPS
(
type: esriFieldTypeDouble, alias: MinPS
)
-
MaxPS
(
type: esriFieldTypeDouble, alias: MaxPS
)
-
LowPS
(
type: esriFieldTypeDouble, alias: LowPS
)
-
HighPS
(
type: esriFieldTypeDouble, alias: HighPS
)
-
Category
(
type: esriFieldTypeInteger, alias: Category
, Coded Values:
[0: Unknown]
, [1: Primary]
, [2: Overview]
, ...6 more...
)
-
Tag
(
type: esriFieldTypeString, alias: Tag, length: 100
)
-
GroupName
(
type: esriFieldTypeString, alias: GroupName, length: 100
)
-
ProductName
(
type: esriFieldTypeString, alias: ProductName, length: 100
)
-
CenterX
(
type: esriFieldTypeDouble, alias: CenterX
)
-
CenterY
(
type: esriFieldTypeDouble, alias: CenterY
)
-
ZOrder
(
type: esriFieldTypeInteger, alias: ZOrder
)
-
Shape
(
type: esriFieldTypeGeometry, alias: Shape
)
-
Map_Name
(
type: esriFieldTypeString, alias: Map_Name, length: 250
)
-
Map_Date
(
type: esriFieldTypeSmallInteger, alias: Map_Date
)
-
Record_No
(
type: esriFieldTypeString, alias: Record_No, length: 50
)
-
Region
(
type: esriFieldTypeString, alias: Region, length: 100
)
-
Map_Category
(
type: esriFieldTypeString, alias: Map_Category, length: 200
)
-
Download_URL
(
type: esriFieldTypeString, alias: Download_URL, length: 250
)
-
Scale
(
type: esriFieldTypeString, alias: Scale, length: 50
)
-
Folder
(
type: esriFieldTypeString, alias: Folder, length: 200
)
Default Mosaic Method: Northwest
Allowed Mosaic Methods: NorthWest,Center,LockRaster,ByAttribute,Nadir,Viewpoint,Seamline,None
SortField:
SortValue: null
Mosaic Operator: First
Default Compression Quality: 75
Default Resampling Method: Bilinear
Max Record Count: 1000
Max Image Height: 4100
Max Image Width: 15000
Max Download Image Count: 20
Max Mosaic Image Count: 20
Allow Raster Function: true
Allow Copy: true
Allow Analysis: true
Allow Compute TiePoints: false
Supports Statistics: true
Supports Advanced Queries: true
Use StandardizedQueries: true
Raster Type Infos:
Name: Raster Dataset
Description: Supports all ArcGIS Raster Datasets
Help:
Has Raster Attribute Table: false
Edit Fields Info: null
Ownership Based AccessControl For Rasters: null
Child Resources:
Info
Statistics
Key Properties
Legend
Raster Function Infos
Supported Operations:
Export Image
Query
Identify
Compute Histograms
Compute Statistics Histograms
Get Samples
Compute Class Statistics
Query GPS Info
Find Images
Image to Map
Map to Image
Measure from Image
Image to Map Multiray
Query Boundary
Compute Pixel Location
Compute Angles
Validate
Project