View In:
ArcGIS JavaScript
ArcGIS Online Map Viewer
ArcGIS Earth
Service Description: Imagery/NIWA_Ihutai_RPAS_2024
Name: Imagery/NIWA_Ihutai_RPAS_2024
Description:
Single Fused Map Cache: false
Extent:
XMin: 1575521.6220043146
YMin: 5176291.908605926
XMax: 1579751.4220043144
YMax: 5182015.708605926
Spatial Reference: 2193
(2193)
LatestVCSWkid(0)
Initial Extent:
XMin: 1575521.6220043146
YMin: 5176291.908605926
XMax: 1579751.4220043144
YMax: 5182015.708605926
Spatial Reference: 2193
(2193)
LatestVCSWkid(0)
Full Extent:
XMin: 1575521.6220043146
YMin: 5176291.908605926
XMax: 1579751.4220043144
YMax: 5182015.708605926
Spatial Reference: 2193
(2193)
LatestVCSWkid(0)
Pixel Size X: 0.19999999999999118
Pixel Size Y: 0.1999999999999935
Band Count: 11
Pixel Type: F32
RasterFunction Infos: {"rasterFunctionInfos": [
{
"name": "NIWA_Ihutai_RGB",
"description": "NIWA_Ihutai_RGB",
"help": ""
},
{
"name": "None",
"description": "Make a Raster or Raster Dataset into a Function Raster Dataset.",
"help": ""
}
]}
Mensuration Capabilities:
Inspection Capabilities:
Has Histograms: true
Has Colormap: false
Has Multi Dimensions : false
Rendering Rule:
Min Scale: 0
Max Scale: 0
Copyright Text:
Service Data Type: esriImageServiceDataTypeGeneric
Min Values: 0, 0, 0, 0, 0, 0, 0, 0, 0, 0, -1
Max Values: 22881, 27660, 25280, 24982, 24002, 24886, 26286, 30469, 33699, 42146, 1
Mean Values: 1405.6072456896507, 1423.7357826248528, 1649.4885364518236, 1714.4572973812315, 1534.41031062124, 1390.0412368614948, 1762.4859555661587, 1981.2022521715596, 2061.2622252095484, 2330.845657011103, 0.1070298605600201
Standard Deviation Values: 537.060488289603, 655.8474178449907, 651.1282517794281, 697.844426620613, 723.7915386608281, 720.4873275877377, 832.217705224231, 1077.388703397454, 1477.4895603637374, 1858.1019610443984, 0.40791267572327833
Object ID Field: OBJECTID
Fields:
-
OBJECTID
(
type: esriFieldTypeOID, alias: OBJECTID
)
-
Shape
(
type: esriFieldTypeGeometry, alias: Shape
)
-
Name
(
type: esriFieldTypeString, alias: Name, length: 200
)
-
MinPS
(
type: esriFieldTypeDouble, alias: MinPS
)
-
MaxPS
(
type: esriFieldTypeDouble, alias: MaxPS
)
-
LowPS
(
type: esriFieldTypeDouble, alias: LowPS
)
-
HighPS
(
type: esriFieldTypeDouble, alias: HighPS
)
-
Category
(
type: esriFieldTypeInteger, alias: Category
, Coded Values:
[0: Unknown]
, [1: Primary]
, [2: Overview]
, ...6 more...
)
-
Tag
(
type: esriFieldTypeString, alias: Tag, length: 100
)
-
GroupName
(
type: esriFieldTypeString, alias: GroupName, length: 100
)
-
ProductName
(
type: esriFieldTypeString, alias: ProductName, length: 100
)
-
CenterX
(
type: esriFieldTypeDouble, alias: CenterX
)
-
CenterY
(
type: esriFieldTypeDouble, alias: CenterY
)
-
ZOrder
(
type: esriFieldTypeInteger, alias: ZOrder
)
-
Shape_Length
(
type: esriFieldTypeDouble, alias: Shape_Length
)
-
Shape_Area
(
type: esriFieldTypeDouble, alias: Shape_Area
)
Default Mosaic Method: Northwest
Allowed Mosaic Methods: NorthWest,Center,LockRaster,ByAttribute,Nadir,Viewpoint,Seamline,None
SortField:
SortValue: null
Mosaic Operator: First
Default Compression Quality: 75
Default Resampling Method: Bilinear
Max Record Count: 1000
Max Image Height: 4100
Max Image Width: 15000
Max Download Image Count: 20
Max Mosaic Image Count: 20
Allow Raster Function: true
Allow Copy: true
Allow Analysis: true
Allow Compute TiePoints: false
Supports Statistics: true
Supports Advanced Queries: true
Use StandardizedQueries: true
Raster Type Infos:
Name: Raster Dataset
Description: Supports all ArcGIS Raster Datasets
Help:
Has Raster Attribute Table: false
Edit Fields Info: null
Ownership Based AccessControl For Rasters: null
Child Resources:
Info
Histograms
Statistics
Key Properties
Legend
Raster Function Infos
Supported Operations:
Export Image
Query
Identify
Compute Histograms
Compute Statistics Histograms
Get Samples
Compute Class Statistics
Query GPS Info
Find Images
Image to Map
Map to Image
Measure from Image
Image to Map Multiray
Query Boundary
Compute Pixel Location
Compute Angles
Validate
Project