View In:
ArcGIS JavaScript
ArcGIS Online Map Viewer
ArcGIS Earth
Service Description: This data shows modelled water depth (on land) and water height above mean high water springs (in the sea) for different tsunami scenarios. The modelling assumes high tide (mean high water springs) and calm sea conditions. It does not include future sea level rise.
The data has been used, along with other logistical and communication considerations, to define tsunami evacuation zones in Canterbury. It can be used for public education, for engineering lifelines planning, some land use planning and by Civil Defence Emergency Management during tsunami events. The data should not be used to make independent decisions that contradict official advice.
Links to modelling reports, references, data currency, and vertical datums of results are detailed in the mosaic attribute table.
Please contact Daniel Ward (daniel.ward@ecan.govt.nz) or Nick Griffiths (nick.griffiths@ecan.govt.nz) for any queries regarding this data.
Name: TsunamiModels/TSUNAMI_Adopted_Scenarios_Depth
Description: This data shows modelled water depth (on land) and water height above mean high water springs (in the sea) for different tsunami scenarios. The modelling assumes high tide (mean high water springs) and calm sea conditions. It does not include future sea level rise.
The data has been used, along with other logistical and communication considerations, to define tsunami evacuation zones in Canterbury. It can be used for public education, for engineering lifelines planning, some land use planning and by Civil Defence Emergency Management during tsunami events. The data should not be used to make independent decisions that contradict official advice.
Links to modelling reports, references, data currency, and vertical datums of results are detailed in the mosaic attribute table.
Please contact Daniel Ward (daniel.ward@ecan.govt.nz) or Nick Griffiths (nick.griffiths@ecan.govt.nz) for any queries regarding this data.
Single Fused Map Cache: false
Extent:
XMin: 171.04984849
YMin: -44.94520142
XMax: 174.06939411
YMax: -41.94011843
Spatial Reference: 4326
(4326)
VCSWkid(5763)
LatestVCSWkid(5763)
Initial Extent:
XMin: 171.04984849
YMin: -44.94520142
XMax: 174.06939411
YMax: -41.94011843
Spatial Reference: 4326
(4326)
VCSWkid(5763)
LatestVCSWkid(5763)
Full Extent:
XMin: 171.04984849
YMin: -44.94520142
XMax: 174.06939411
YMax: -41.94011843
Spatial Reference: 4326
(4326)
VCSWkid(5763)
LatestVCSWkid(5763)
Pixel Size X: 8.983000000000007E-5
Pixel Size Y: 8.982999999999994E-5
Band Count: 1
Pixel Type: F32
RasterFunction Infos: {"rasterFunctionInfos": [
{
"name": "DepCB",
"description": "A raster function template.",
"help": ""
},
{
"name": "None",
"description": "",
"help": ""
}
]}
Mensuration Capabilities: Basic
Inspection Capabilities:
Has Histograms: true
Has Colormap: false
Has Multi Dimensions : false
Rendering Rule:
Min Scale: 0
Max Scale: 0
Resampling: false
Copyright Text:
Service Data Type: esriImageServiceDataTypeGeneric
Min Values: 0.009273841646191938
Max Values: 4.738423081205368
Mean Values: 2.171830679373665
Standard Deviation Values: 0.47718530775799367
Object ID Field: OBJECTID
Fields:
-
OBJECTID
(
type: esriFieldTypeOID, alias: OBJECTID
)
-
Name
(
type: esriFieldTypeString, alias: Name, length: 200
)
-
MinPS
(
type: esriFieldTypeDouble, alias: MinPS
)
-
MaxPS
(
type: esriFieldTypeDouble, alias: MaxPS
)
-
LowPS
(
type: esriFieldTypeDouble, alias: LowPS
)
-
HighPS
(
type: esriFieldTypeDouble, alias: HighPS
)
-
Category
(
type: esriFieldTypeInteger, alias: Category
, Coded Values:
[0: Unknown]
, [1: Primary]
, [2: Overview]
, ...6 more...
)
-
Tag
(
type: esriFieldTypeString, alias: Tag, length: 100
)
-
GroupName
(
type: esriFieldTypeString, alias: GroupName, length: 100
)
-
ProductName
(
type: esriFieldTypeString, alias: ProductName, length: 100
)
-
CenterX
(
type: esriFieldTypeDouble, alias: CenterX
)
-
CenterY
(
type: esriFieldTypeDouble, alias: CenterY
)
-
ZOrder
(
type: esriFieldTypeInteger, alias: ZOrder
)
-
F_Long_name
(
type: esriFieldTypeString, alias: F_Long_name, length: 255
)
-
Description
(
type: esriFieldTypeString, alias: Description, length: 4000
)
-
Tsunami_source
(
type: esriFieldTypeString, alias: Tsunami_source, length: 255
)
-
Fault_slip_scenario
(
type: esriFieldTypeString, alias: Fault_slip_scenario, length: 255
)
-
Individual_ensemble
(
type: esriFieldTypeString, alias: Individual_ensemble, length: 255
)
-
Viewable_for_public
(
type: esriFieldTypeString, alias: Viewable_for_public, length: 255
)
-
Estimated_wave_amplitude_at_coa
(
type: esriFieldTypeString, alias: Estimated_wave_amplitude_at_coast_nearest_m_, length: 255
)
-
Estimated_return_period_of_sour
(
type: esriFieldTypeString, alias: Estimated_return_period_of_source_earthquake, length: 255
)
-
Location
(
type: esriFieldTypeString, alias: Location, length: 255
)
-
NEMA_tsunami_forecast_zone
(
type: esriFieldTypeString, alias: NEMA_tsunami_forecast_zone, length: 255
)
-
Sea_Level_Rise_m_
(
type: esriFieldTypeString, alias: Sea_Level_Rise_m_, length: 255
)
-
Result_type
(
type: esriFieldTypeString, alias: Result_type, length: 255
)
-
Model_used
(
type: esriFieldTypeString, alias: Model_used, length: 255
)
-
Digital_Elevation_Model_topogra
(
type: esriFieldTypeString, alias: Digital_Elevation_Model_topography, length: 255
)
-
Digital_Elevation_Model_bathyme
(
type: esriFieldTypeString, alias: Digital_Elevation_Model_bathymetry, length: 255
)
-
Vertcial_datum
(
type: esriFieldTypeString, alias: Vertcial_datum, length: 255
)
-
Coordinate_system
(
type: esriFieldTypeString, alias: Coordinate_system, length: 255
)
-
Tide_stage
(
type: esriFieldTypeString, alias: Tide_stage, length: 255
)
-
Produced_by
(
type: esriFieldTypeString, alias: Produced_by, length: 255
)
-
Produced_date
(
type: esriFieldTypeString, alias: Produced_date, length: 255
)
-
Produced_for
(
type: esriFieldTypeString, alias: Produced_for, length: 255
)
-
File_location
(
type: esriFieldTypeString, alias: File_location, length: 255
)
-
Comments
(
type: esriFieldTypeString, alias: Comments, length: 500
)
-
Adopted
(
type: esriFieldTypeString, alias: Adopted, length: 255
)
-
Technical_report_reference
(
type: esriFieldTypeString, alias: Technical_report_reference, length: 255
)
-
Link_to_technical_report
(
type: esriFieldTypeString, alias: Link_to_technical_report, length: 255
)
-
Link_to_storymap
(
type: esriFieldTypeString, alias: Link_to_storymap, length: 255
)
-
Link_to_simple_tsunami_source_m
(
type: esriFieldTypeString, alias: Link_to_simple_tsunami_source_map, length: 255
)
-
Link_to_tsunami_source_model
(
type: esriFieldTypeString, alias: Link_to_tsunami_source_model, length: 255
)
-
Link_to_wave_amplitude_at_coast
(
type: esriFieldTypeString, alias: Link_to_wave_amplitude_at_coast_image, length: 255
)
-
Comments2
(
type: esriFieldTypeString, alias: Comments2, length: 255
)
-
Comments3
(
type: esriFieldTypeString, alias: Comments3, length: 350
)
-
Comments4
(
type: esriFieldTypeString, alias: Comments4, length: 255
)
-
Comments5
(
type: esriFieldTypeString, alias: Comments5, length: 255
)
-
Value1
(
type: esriFieldTypeDouble, alias: Value1
)
-
Value2
(
type: esriFieldTypeDouble, alias: Value2
)
-
Value3
(
type: esriFieldTypeDouble, alias: Value3
)
-
Shape
(
type: esriFieldTypeGeometry, alias: Shape
)
Default Mosaic Method: Northwest
Allowed Mosaic Methods: NorthWest,Center,LockRaster,ByAttribute,Nadir,Viewpoint,Seamline,None
SortField:
SortValue: null
Mosaic Operator: First
Default Compression Quality: 75
Default Resampling Method: Bilinear
Max Record Count: 1000
Max Image Height: 4100
Max Image Width: 15000
Max Download Image Count: 20
Max Mosaic Image Count: 20
Allow Raster Function: true
Allow Copy: true
Allow Analysis: true
Allow Compute TiePoints: false
Supports Statistics: true
Supports Advanced Queries: true
Use StandardizedQueries: true
Raster Type Infos:
Name: Raster Dataset
Description: Supports all ArcGIS Raster Datasets
Help:
Has Raster Attribute Table: false
Edit Fields Info: null
Ownership Based AccessControl For Rasters: null
Child Resources:
Info
Histograms
Statistics
Key Properties
Legend
Raster Function Infos
Supported Operations:
Export Image
Query
Identify
Measure
Compute Histograms
Compute Statistics Histograms
Get Samples
Compute Class Statistics
Query GPS Info
Find Images
Image to Map
Map to Image
Measure from Image
Image to Map Multiray
Query Boundary
Compute Pixel Location
Compute Angles
Validate
Project