View In:
ArcGIS JavaScript
ArcGIS Online Map Viewer
ArcGIS Earth
Service Description: This web service is sourced from the Tsunami Alternative Scenarios Depth mosaic located in SQL03PROD_RASTER_GISWebEditor.sde database. This data shows modelled water depth (on land) and water height above mean high water springs (in the sea) for different tsunami scenarios. The modelling assumes high tide (mean high water springs) and calm sea conditions. It does not include future sea level rise.
The data has been used, along with other logistical and communication considerations, to define tsunami evacuation zones in Canterbury. It can be used for public education, for engineering lifelines planning, some land use planning and by Civil Defence Emergency Management during tsunami events. The data should not be used to make independent decisions that contradict official advice.
Links to modelling reports, references, data currency, and vertical datums of results are detailed in the mosaic attribute table.
Please contact Daniel Ward (daniel.ward@ecan.govt.nz) or Nick Griffiths (nick.griffiths@ecan.govt.nz) for any queries regarding this data.
Name: TsunamiModels/TSUNAMI_Alternative_Scenarios_Depth
Description: This web service is sourced from the Tsunami Alternative Scenarios Depth mosaic located in SQL03PROD_RASTER_GISWebEditor.sde database. This data shows modelled water depth (on land) and water height above mean high water springs (in the sea) for different tsunami scenarios. The modelling assumes high tide (mean high water springs) and calm sea conditions. It does not include future sea level rise.
The data has been used, along with other logistical and communication considerations, to define tsunami evacuation zones in Canterbury. It can be used for public education, for engineering lifelines planning, some land use planning and by Civil Defence Emergency Management during tsunami events. The data should not be used to make independent decisions that contradict official advice.
Links to modelling reports, references, data currency, and vertical datums of results are detailed in the mosaic attribute table.
Please contact Daniel Ward (daniel.ward@ecan.govt.nz) or Nick Griffiths (nick.griffiths@ecan.govt.nz) for any queries regarding this data.
Single Fused Map Cache: false
Extent:
XMin: 1562757.9615000002
YMin: 5122572.1718
XMax: 1618517.9615000002
YMax: 5199562.1718
Spatial Reference: 2193
(2193)
LatestVCSWkid(0)
Initial Extent:
XMin: 1562757.9615000002
YMin: 5122572.1718
XMax: 1618517.9615000002
YMax: 5199562.1718
Spatial Reference: 2193
(2193)
LatestVCSWkid(0)
Full Extent:
XMin: 1562757.9615000002
YMin: 5122572.1718
XMax: 1618517.9615000002
YMax: 5199562.1718
Spatial Reference: 2193
(2193)
LatestVCSWkid(0)
Pixel Size X: 5.0
Pixel Size Y: 5.0
Band Count: 1
Pixel Type: F32
RasterFunction Infos: {"rasterFunctionInfos": [
{
"name": "DepCB",
"description": "A raster function template.",
"help": ""
},
{
"name": "None",
"description": "",
"help": ""
}
]}
Mensuration Capabilities: Basic
Inspection Capabilities:
Has Histograms: true
Has Colormap: false
Has Multi Dimensions : false
Rendering Rule:
Min Scale: 0
Max Scale: 0
Resampling: false
Copyright Text:
Service Data Type: esriImageServiceDataTypeGeneric
Min Values: 0.009273841646191938
Max Values: 21.307138048112392
Mean Values: 3.447159777631711
Standard Deviation Values: 1.4102525326013677
Object ID Field: OBJECTID
Fields:
-
OBJECTID
(
type: esriFieldTypeOID, alias: OBJECTID
)
-
Name
(
type: esriFieldTypeString, alias: Name, length: 200
)
-
MinPS
(
type: esriFieldTypeDouble, alias: MinPS
)
-
MaxPS
(
type: esriFieldTypeDouble, alias: MaxPS
)
-
LowPS
(
type: esriFieldTypeDouble, alias: LowPS
)
-
HighPS
(
type: esriFieldTypeDouble, alias: HighPS
)
-
Category
(
type: esriFieldTypeInteger, alias: Category
, Coded Values:
[0: Unknown]
, [1: Primary]
, [2: Overview]
, ...6 more...
)
-
Tag
(
type: esriFieldTypeString, alias: Tag, length: 100
)
-
GroupName
(
type: esriFieldTypeString, alias: GroupName, length: 100
)
-
ProductName
(
type: esriFieldTypeString, alias: ProductName, length: 100
)
-
CenterX
(
type: esriFieldTypeDouble, alias: CenterX
)
-
CenterY
(
type: esriFieldTypeDouble, alias: CenterY
)
-
ZOrder
(
type: esriFieldTypeInteger, alias: ZOrder
)
-
LongName
(
type: esriFieldTypeString, alias: Long Name, length: 255
)
-
TsunamiSource
(
type: esriFieldTypeString, alias: Tsunami Source, length: 255
)
-
FaultSlipScenario
(
type: esriFieldTypeString, alias: Fault Slip Scenario, length: 255
)
-
Individual_Ensemble
(
type: esriFieldTypeString, alias: Model Type, length: 255
)
-
PublicView
(
type: esriFieldTypeString, alias: Viewable for Public, length: 255
)
-
WaveHeightCoast
(
type: esriFieldTypeString, alias: Estimated Wave Height at Coast, length: 255
)
-
ReturnPeriodQuake
(
type: esriFieldTypeString, alias: Estimated Return Period of Source Earthquake, length: 255
)
-
ReturnPeriodWave
(
type: esriFieldTypeString, alias: Estimated Return Period of Wave Height at Coast, length: 255
)
-
Location
(
type: esriFieldTypeString, alias: Location, length: 255
)
-
NEMAZone
(
type: esriFieldTypeString, alias: NEMA Tsunami Forecast Zone, length: 255
)
-
ResultType
(
type: esriFieldTypeString, alias: Result Type, length: 255
)
-
ModellingSoftware
(
type: esriFieldTypeString, alias: Modelling Software, length: 255
)
-
DEMTopography
(
type: esriFieldTypeString, alias: Digital Elevation Model Topography, length: 255
)
-
DEMBathymetry
(
type: esriFieldTypeString, alias: Digital Elevation Model Bathymetry, length: 255
)
-
VerticalDatum
(
type: esriFieldTypeString, alias: Vertical Datum, length: 255
)
-
CoordinateSystem
(
type: esriFieldTypeString, alias: Coordinate System, length: 255
)
-
TidalStage
(
type: esriFieldTypeString, alias: TidalStage, length: 255
)
-
ProducedBy
(
type: esriFieldTypeString, alias: Produced By, length: 255
)
-
ProducedDate
(
type: esriFieldTypeString, alias: ProducedDate, length: 255
)
-
ProducedFor
(
type: esriFieldTypeString, alias: Produced For, length: 255
)
-
FileName
(
type: esriFieldTypeString, alias: File Name, length: 255
)
-
FileLocation
(
type: esriFieldTypeString, alias: File Location, length: 255
)
-
Comments
(
type: esriFieldTypeString, alias: Comments, length: 255
)
-
Adopted
(
type: esriFieldTypeString, alias: Adopted, length: 255
)
-
TechReportReference
(
type: esriFieldTypeString, alias: Technical Report Reference, length: 255
)
-
TechReportLink
(
type: esriFieldTypeString, alias: Link to Technical Report, length: 255
)
-
StoryMapLink
(
type: esriFieldTypeString, alias: Link to Story Map, length: 255
)
-
SourceMapLink
(
type: esriFieldTypeString, alias: Link to Simple Tsunami Source Map, length: 255
)
-
SourceModelLink
(
type: esriFieldTypeString, alias: Link to Simple Tsunamu Source Model, length: 255
)
-
WaveHeightLink
(
type: esriFieldTypeString, alias: Link to Wave Height at Coast Image, length: 255
)
-
ModelDescription
(
type: esriFieldTypeString, alias: Model Description, length: 255
)
-
VirtualTideGaugeLink1
(
type: esriFieldTypeString, alias: Link to Virtual Tide Gauge, length: 255
)
-
Comments2
(
type: esriFieldTypeString, alias: Comments 2, length: 255
)
-
Comments3
(
type: esriFieldTypeString, alias: Comments 3, length: 350
)
-
Comments4
(
type: esriFieldTypeString, alias: Comments 4, length: 255
)
-
Comments5
(
type: esriFieldTypeString, alias: Comments 5, length: 255
)
-
MiscValue1
(
type: esriFieldTypeDouble, alias: Value 1
)
-
MiscValue2
(
type: esriFieldTypeDouble, alias: Value 2
)
-
MisValue3
(
type: esriFieldTypeDouble, alias: Value 3
)
-
VirtualTideGaugeLink2
(
type: esriFieldTypeString, alias: Link to Virtual Tide Gauge 2, length: 255
)
-
VirtualTideGaugeLink3
(
type: esriFieldTypeString, alias: Link to Virtual Tide Gauge 3, length: 255
)
-
Shape
(
type: esriFieldTypeGeometry, alias: Shape
)
Default Mosaic Method: Northwest
Allowed Mosaic Methods: NorthWest,Center,LockRaster,ByAttribute,Nadir,Viewpoint,Seamline,None
SortField:
SortValue: null
Mosaic Operator: First
Default Compression Quality: 75
Default Resampling Method: Nearest
Max Record Count: 1000
Max Image Height: 4100
Max Image Width: 15000
Max Download Image Count: 20
Max Mosaic Image Count: 20
Allow Raster Function: true
Allow Copy: true
Allow Analysis: true
Allow Compute TiePoints: false
Supports Statistics: true
Supports Advanced Queries: true
Use StandardizedQueries: true
Raster Type Infos:
Name: Raster Dataset
Description: Supports all ArcGIS Raster Datasets
Help:
Has Raster Attribute Table: false
Edit Fields Info: null
Ownership Based AccessControl For Rasters: null
Child Resources:
Info
Histograms
Statistics
Key Properties
Legend
Raster Function Infos
Supported Operations:
Export Image
Query
Identify
Measure
Compute Histograms
Compute Statistics Histograms
Get Samples
Compute Class Statistics
Query GPS Info
Find Images
Image to Map
Map to Image
Measure from Image
Image to Map Multiray
Query Boundary
Compute Pixel Location
Compute Angles
Validate
Project