View In:
ArcGIS JavaScript
ArcGIS Online Map Viewer
ArcGIS Earth
Service Description: 4 band infrared aerial imagery in Canterbury
Name: Imagery/Latest_Imagery_Infrared
Description: 4 band infrared aerial imagery in Canterbury
Single Fused Map Cache: false
Extent:
XMin: 1315958.3832
YMin: 4943920.15
XMax: 1708000.0332
YMax: 5407045.2
Spatial Reference: 2193
(2193)
LatestVCSWkid(0)
Initial Extent:
XMin: 1315958.3832
YMin: 4943920.15
XMax: 1708000.0332
YMax: 5407045.2
Spatial Reference: 2193
(2193)
LatestVCSWkid(0)
Full Extent:
XMin: 1315958.3832
YMin: 4943920.15
XMax: 1708000.0332
YMax: 5407045.2
Spatial Reference: 2193
(2193)
LatestVCSWkid(0)
Pixel Size X: 0.04999999999999999
Pixel Size Y: 0.04999999999999998
Band Count: 4
Pixel Type: U8
RasterFunction Infos: {"rasterFunctionInfos": [
{
"name": "RGB Composite",
"description": "A raster function template.",
"help": ""
},
{
"name": "None",
"description": "A No-Op Function.",
"help": ""
}
]}
Mensuration Capabilities:
Inspection Capabilities:
Has Histograms: false
Has Colormap: false
Has Multi Dimensions : false
Rendering Rule:
Min Scale: 0
Max Scale: 0
Resampling: false
Copyright Text:
Service Data Type: esriImageServiceDataTypeGeneric
Min Values: N/A
Max Values: N/A
Mean Values: N/A
Standard Deviation Values: N/A
Object ID Field: OBJECTID
Fields:
-
OBJECTID
(
type: esriFieldTypeOID, alias: OBJECTID
)
-
Shape
(
type: esriFieldTypeGeometry, alias: Shape
)
-
Name
(
type: esriFieldTypeString, alias: Name, length: 200
)
-
MinPS
(
type: esriFieldTypeDouble, alias: MinPS
)
-
MaxPS
(
type: esriFieldTypeDouble, alias: MaxPS
)
-
LowPS
(
type: esriFieldTypeDouble, alias: LowPS
)
-
HighPS
(
type: esriFieldTypeDouble, alias: HighPS
)
-
Category
(
type: esriFieldTypeInteger, alias: Category
, Coded Values:
[0: Unknown]
, [1: Primary]
, [2: Overview]
, ...6 more...
)
-
Tag
(
type: esriFieldTypeString, alias: Tag, length: 100
)
-
GroupName
(
type: esriFieldTypeString, alias: GroupName, length: 100
)
-
ProductName
(
type: esriFieldTypeString, alias: ProductName, length: 100
)
-
CenterX
(
type: esriFieldTypeDouble, alias: CenterX
)
-
CenterY
(
type: esriFieldTypeDouble, alias: CenterY
)
-
ZOrder
(
type: esriFieldTypeInteger, alias: ZOrder
)
-
Shape_Length
(
type: esriFieldTypeDouble, alias: Shape_Length
)
-
Shape_Area
(
type: esriFieldTypeDouble, alias: Shape_Area
)
-
SURVEY_NAME
(
type: esriFieldTypeString, alias: SURVEY_NAME, length: 50
)
-
DATE_FLOWN
(
type: esriFieldTypeDate, alias: DATE_FLOWN, length: 8
)
-
ALTITUDE
(
type: esriFieldTypeString, alias: ALTITUDE, length: 10
)
-
COORD_SYSTEM_XY
(
type: esriFieldTypeString, alias: COORD_SYSTEM_XY, length: 50
)
-
COORD_SYSTEM_Z
(
type: esriFieldTypeString, alias: COORD_SYSTEM_Z, length: 50
)
-
ACCURACY_XY
(
type: esriFieldTypeString, alias: ACCURACY_XY, length: 30
)
-
ACCURACY_Z
(
type: esriFieldTypeString, alias: ACCURACY_Z, length: 30
)
-
OWNER
(
type: esriFieldTypeString, alias: OWNER, length: 50
)
-
LICENSE
(
type: esriFieldTypeString, alias: LICENSE, length: 100
)
-
LICENSE_DESCRIPTION
(
type: esriFieldTypeString, alias: LICENSE_DESCRIPTION, length: 50
)
Default Mosaic Method: ByAttribute
Allowed Mosaic Methods: ByAttribute,NorthWest,Center,LockRaster,Nadir,Viewpoint,Seamline,None
SortField: ZOrder
SortValue: 0
Mosaic Operator: First
Default Compression Quality: 75
Default Resampling Method: Bilinear
Max Record Count: 1000
Max Image Height: 4100
Max Image Width: 15000
Max Download Image Count: 20
Max Mosaic Image Count: 200
Allow Raster Function: true
Allow Copy: false
Allow Analysis: false
Allow Compute TiePoints: false
Supports Statistics: true
Supports Advanced Queries: true
Use StandardizedQueries: true
Raster Type Infos:
Name: Raster Dataset
Description: Supports all ArcGIS Raster Datasets
Help:
Has Raster Attribute Table: false
Edit Fields Info: null
Ownership Based AccessControl For Rasters: null
Child Resources:
Info
Statistics
Key Properties
Legend
Raster Function Infos
Supported Operations:
Export Image
Query
Identify
Download Rasters
Get Image Url
Compute Histograms
Compute Statistics Histograms
Get Samples
Compute Class Statistics
Query GPS Info
Find Images
Image to Map
Map to Image
Measure from Image
Image to Map Multiray
Query Boundary
Compute Pixel Location
Compute Angles
Validate
Project