View In:
ArcGIS JavaScript
ArcGIS Online Map Viewer
ArcGIS Earth
Service Description: Imagery/NIWA_Classification_Ihutai_2024
Name: Imagery/NIWA_Classification_Ihutai_2024
Description:
Single Fused Map Cache: false
Extent:
XMin: 1575504.1354980469
YMin: 5176271.207277613
XMax: 1579917.9046223834
YMax: 5182025.963317871
Spatial Reference: 0
(0)
LatestVCSWkid(0)
Initial Extent:
XMin: 1575504.1354980469
YMin: 5176271.207277613
XMax: 1579917.9046223834
YMax: 5182025.963317871
Spatial Reference: 0
(0)
LatestVCSWkid(0)
Full Extent:
XMin: 1575504.1354980469
YMin: 5176271.207277613
XMax: 1579917.9046223834
YMax: 5182025.963317871
Spatial Reference: 0
(0)
LatestVCSWkid(0)
Pixel Size X: 0.14164855983108282
Pixel Size Y: 0.14164855983110575
Band Count: 1
Pixel Type: U8
RasterFunction Infos: {"rasterFunctionInfos": [{
"name": "None",
"description": "",
"help": ""
}]}
Mensuration Capabilities: Basic
Inspection Capabilities:
Has Histograms: true
Has Colormap: false
Has Multi Dimensions : false
Rendering Rule:
Min Scale: 0
Max Scale: 0
Copyright Text:
Service Data Type: esriImageServiceDataTypeThematic
Min Values: 0
Max Values: 8
Mean Values: 2.3270916749228627
Standard Deviation Values: 2.3715550920881583
Object ID Field:
Fields:
None
Default Mosaic Method: Center
Allowed Mosaic Methods:
SortField:
SortValue: null
Mosaic Operator: First
Default Compression Quality: 75
Default Resampling Method: Bilinear
Max Record Count: null
Max Image Height: 4100
Max Image Width: 15000
Max Download Image Count: null
Max Mosaic Image Count: null
Allow Raster Function: true
Allow Copy: true
Allow Analysis: true
Allow Compute TiePoints: false
Supports Statistics: false
Supports Advanced Queries: false
Use StandardizedQueries: true
Raster Type Infos:
Name: Raster Dataset
Description: Supports all ArcGIS Raster Datasets
Help:
Has Raster Attribute Table: true
Edit Fields Info: null
Ownership Based AccessControl For Rasters: null
Child Resources:
Info
Raster Attribute Table
Histograms
Statistics
Key Properties
Legend
Raster Function Infos
Supported Operations:
Export Image
Identify
Measure
Compute Histograms
Compute Statistics Histograms
Get Samples
Compute Class Statistics
Query Boundary
Compute Pixel Location
Compute Angles
Validate
Project